Workbook
Name _Hlk126580222: '2024 Daily Crime Log'!$A$395
Name _Hlk83902175: '2022 Daily Log'!$A$422
Name _Hlk83902372: '2022 Daily Log'!$A$423

Sheet  2017-2018 Daily Log
A1: Report Date | B1: Offense Date | C1: Offense Title | D1: Case # | E1: Location | F1: Disposition
A2: 43070 | B2: 43070 | C2: Disruptive Student | D2: SR20171201-0667 | E2: Nursing Building | F2: Administration Sanction
A3: 43070 | B3: 43070 | C3: Verbal Altercation | D3: SR20171201-0669 | E3: Spartan Suites | F3: Administration Sanction
A4: 43070 | B4: 43070 | C4: Theft from building | D4: 20171201-0670 | E4: Lee Smith Hall | F4: Inactive
A5: 43070 | B5: 43070 | C5: Simple Assault | D5: 20171201-0671 | E5: Student Center | F5: Inactive
A6: 43071 | B6: 43071 | C6: Communicating Threats | D6: 20171202-0672 | E6: Spartan suites | F6: Closed
A7: 43073 | B7: 43073 | C7: Sexual Assault Off Campus | D7: 20171204-0673 | E7: City Of Norfolk unknown | F7: Closed / NPD
A8: 43073 | B8: 43073 | C8: Drug Paraphernalia | D8: SR20171204-0674 | E8: Spartan Suites | F8: Administration Sanction
A9: 43073 | B9: 43073 | C9: Disruptive Behavior | D9: SR20171204-0675 | E9: Babbette Smith North | F9: Administration Sanction
A10: 43074 | B10: 43074 | C10: Injured Person | D10: 20171205-0676 | E10: Student Service Center | F10: Closed
A11: 43074 | B11: 43074 | C11: Extortion | D11: 20171205-0677 | E11: Rosa Alexander Hall | F11: Inactive
A12: 43075 | B12: 43075 | C12: Lost Property | D12: 20171207-0678 | E12: Wilder Center | F12: Closed
A13: 43076 | B13: 43076 | C13: Injured Person | D13: 20171207-0679 | E13: Lot 14 | F13: Closed
... A131: 43150 | B131: 43150 | C131: Suspicious Person | D131: 20180219-0101 | E131: Student Services | F131: Closed
A132: 02/20/2018 | B132: 02/20/2018 | C132: Disorderly Conduct | D132: SR20180220-0102 | E132: Twin Towers North | F132: Administration Sanction
A133: 02/22/2018 | B133: 02/22/2018 | C133: Disruptive Behavior | D133: SR20180222-0103 | E133: Robinson Tech | F133: Administration Sanction
A134: 02/22/2018 | B134: 02/22/2018 | C134: Hit and Run Vehicle | D134: 20180222-0104 | E134: Lot 14 | F134: Closed
A135: 02/22/2018 | B135: 02/22/2018 | C135: Theft from Building | D135: 20180222-0105 | E135: Rosa Alexander | F135: Closed
A136: 02/22/2018 | B136: 02/22/2018 | C136: MVA Property Damage | D136: 20180222-0106 | E136: Softball Field | F136: Closed
A137: 02/23/2018 | B137: 02/23/2018 | C137: Harassment | D137: SR20180223-0107 | E137: Bozeman Education | F137: Administration Sanction
A138: 02/23/2018 | B138: 02/23/2018 | C138: Verbal Dispute | D138: 20180223-0108 | E138: Facilities | F138: Closed
A139: 43155 | B139: 43155 | C139: Alcohol Violation | D139: SR20180224-0109 | E139: Lot #8 | F139: Administration Sanction
A140: 43156 | B140: 43156 | C140: Alcohol Violation | D140: SR20180225-0110 | E140: Lee Smith | F140: Administration Sanction
A141: 43156 | B141: 43156 | C141: MVA Hit and Run Property Damage | D141: 20180225-0113 | E141: Lot 13 | F141: Closed
A142: 43158 | B142: 43158 | C142: Maliciously Discharging a Weapon | D142: SR20180227-0114 | E142: Babbette Smith South | F142: Inactive
A143: 43158 | B143: 43158 | C143: Weapon Violation | D143: SR20180227-0115 | E143: Babbette Smith South | F143: Administration Sanction
A144: 43158 | B144: 43158 | C144: Vandalism | D144: 20180227-0116 | E144: McDemmond Ctr | F144: Closed
A145: 43158 | B145: 43158 | C145: Auto Accident w/o injuries | D145: 20180227-0117 | E145: Lot 4 | F145: Inactive
A146: 43158 | B146: 43158 | C146: Drug Violation | D146: SR20180227-0118 | E146: Rosa Alexander | F146: Administration Sanction
A147: 43158 | B147: 43158 | C147: Suspicious Activity | D147: 20180227-0119 | E147: Library | F147: Closed
A148: 43158 | B148: 43158 | C148: Violating of University Policy | D148: SR20180227-0120 | E148: Babbette Smith South | F148: Administration Sanction
A149: 43159 | B149: 43159 | C149: Injured Person | D149: 20180228-0121 | E149: Police Headquarters | F149: Closed
A150: 43159 | B150: 43159 | C150: Fraud | D150: 20180228-0122 | E150: Lot 13 | F150: Administration Sanction
... A197: 43186 | B197: 43186 | C197: Trespass Notice | D197: 20180327-0169 | E197: Brooks Library | F197: Closed
A198: 43187 | B198: 1/28-3/28/2018 | C198: Theft From Vehicle | D198: 20180328-0170 | E198: Lot 12 | F198: Administration Sanction
A199: 43187 | B199: 43187 | C199: Hit and Run Pedestrian | D199: 20180328-0171 | E199: 2500 Block of Corprew | F199: Inactive
A200: 43188 | B200: 43188 | C200: Trespass | D200: 20180329-0172 | E200: Spartan Suites | F200: Arrest
A201: 43189 | B201: 43189 | C201: Indecent Exposure | D201: 20180330-0173 | E201: Robinson Tech | F201: Closed/Arrested
A202: 43191 | B202: 43191 | C202: Theft from Building | D202: 20180401-0174 | E202: Gills Gym | F202: Closed
A203: 43192 | B203: 43192 | C203: Warrant Summons (Information Only) | D203: 20180402-0175 | E203: 1600 Block of Brambleton Avenue | F203: Closed
...

Sheet 2019 Daily Log
A1: Report Date | B1: Offense Date | C1: Offense Title | D1: Case # | E1: Location | F1: Disposition
A2: 43466 | B2: 43466 | C2: Damage to State Property | D2: 20190105-0001 | E2: Lot #14 | F2: Closed
A3: 43469 | B3: 43469 | C3: Disruptive Behavior | D3: 20190101-0002 | E3: Library | F3: Inactive
A4: 43470 | B4: 43470 | C4: Burglary | D4: 20190104-0003 | E4: Spartan Suites | F4: Inactive
A5: 43471 | B5: 43471 | C5: Trespass | D5: 20190106-0004 | E5: Spartan Suites | F5: Inactive
A6: 43472 | B6: 43472 | C6: Information Only | D6: 20190107-0005 | E6: Spartan Suites | F6: Inactive
A7: 43473 | B7: 43473 | C7: Vehicle Accident | D7: 20190108-0006 | E7: Lot #4 | F7: Closed
A8: 43473 | B8: 43473 | C8: Vehicle Accident | D8: 20190108-0007 | E8: 1600 Corprew Ave | F8: Closed
A9: 43473 | B9: 43473 | C9: Failure to Comply | D9: 20190108-0008 | E9: Lot #23 | F9: Closed
A10: 43474 | B10: 43474 | C10: Damage to Property | D10: 20190109-0009 | E10: Lot 22 | F10: Closed
A11: 43474 | B11: 43474 | C11: Drug Violation | D11: 20190109-0010 | E11: Brambleton Center | F11: Closed
A12: 43474 | B12: 43474 | C12: Stalking | D12: 20190109-0011 | E12: Nursing Ed. Building | F12: Inactive
A13: 43475 | B13: 43475 | C13: MVA Hit and Run Property Damage | D13: 20190110-0012 | E13: Lot #7 | F13: Closed
... A37: 43489 | B37: 43489 | C37: VOID | D37: 20190124-0036 | E37: VOID | F37: VOID
A38: 43490 | B38: 0/25/2019 | C38: Injured Person | D38: 20190125-0037 | E38: Robinson Technology Building | F38: Inactive
A39: 43490 | B39: 43490 | C39: Fraud | D39: 20190125-0038 | E39: Student Center | F39: Inactive
A40: 43490 | B40: 43490 | C40: Petty Larceny | D40: 20190125-0039 | E40: Lot 14 | F40: Inactive
A41: 43492 | B41: 43492 | C41: Weapon Violation | D41: 20190127-0140 | E41: Lot 22 | F41: Inactive
A42: 43492 | B42: 43492 | C42: Drug Violation | D42: 20190127-0141 | E42: Lot 22 | F42: Arrest
A43: 43492 | B43: 43492 | C43: Larceny | D43: 20190127-0042 | E43: Gills Gym | F43: Inactive
A44: 43493 | B44: 43493 | C44: Threatening Behavior | D44: 20190128-0043 | E44: Student Center | F44: Inactive
A45: 43493 | B45: 43493 | C45: Larceny | D45: 20190128-0044 | E45: Wilder Center Loading Dock | F45: Administrative Sanction
A46: 43493 | B46: 43493 | C46: Strong Arm Robbery | D46: 20190128-0045 | E46: 700 Block of Olney Road | F46: Inactive
A47: 43494 | B47: 43494 | C47: Threatening Over Air Ways | D47: 20190129-0046 | E47: Samuel Scott | F47: Closed
A48: 43495 | B48: 43495 | C48: Drug Violation | D48: 20190130-0047 | E48: Babbette Smith South | F48: Inactive
A49: 43496 | B49: 43496 | C49: Suspicious | D49: 20190131-0048 | E49: Lot 22 | F49: Inactive
A50: 43498 | B50: 43498 | C50: Vandalism | D50: 20190202-0049 | E50: Lot 27 | F50: Closed
... A112: 43530 | B112: 43530 | C112: Injured Person | D112: 20190306-0110 | E112: Student Service Center | F112: Closed
B113: 43531 | C113: 43531 | D113: 20190307-0111 | E113: Scott Hall | F113: Closed
A114: 43532 | B114: 43532 | C114: Physical Altercation | D114: 20190308-0112 | E114: Spartan Suites | F114: Administrative Sanction
A115: 43532 | B115: 43532 | C115: Auto Accident w/o injuries | D115: 20190305-0113 | E115: Lot 28 | F115: Closed
A116: 43536 | B116: 43536 | C116: Destruction of Property | D116: 20190312-0114 | E116: 1400 Bond St. | F116: Inactive
A117: 43536 | B117: 43536 | C117: Failure to Comply | D117: 20190312-0115 | E117: Lot 13 | F117: Closed
A118: 43536 | B118: 43536 | C118: Threat To Harm Oneself | D118: 20190312-0116 | E118: Scott Hall | F118: Closed
A119: 43538 | B119: 43538 | C119: Physical Altercation | D119: 20190314-0117 | E119: Scott Dozier | F119: Closed
A120: 43538 | B120: 43538 | C120: Damage to property | D120: 20190314-0118 | E120: Lot 14 | F120: Closed
A121: 43539 | B121: 43539 | C121: Simple Assault | D121: 20190315-0119 | E121: Spartan Suites | F121: Administrative Sanction
A122: 43539 | B122: 43539 | C122: Dating Violence | D122: 20190315-0119 | E122: Spartan Suites | F122: Administrative Sanction
A123: 43541 | B123: 43541 | C123: Burglary | D123: 20190317-0120 | E123: Babbette Smith North | F123: Inactive
A124: 43542 | B124: 43542 | C124: Injured Person | D124: 20190318-0121 | E124: Brown Hall | F124: Inactive
...

Sheet 2020 Daily Log
A1: Report Date | B1: Offense Date | C1: Offense Title | D1: Case # | E1: Location | F1: Disposition
A2: 43832 | B2: 43832 | C2: Harassment | D2: 200102-0001 | E2: Police Headquarters | F2: Inactive
A3: 43833 | B3: 43833 | C3: Destruction/Damage/Vandalism | D3: 200103-0002 | E3: Lyman Beechman Library | F3: Closed
A4: 43834 | B4: 43834 | C4: Public Intoxication | D4: 200104-0003 | E4: Babbette Smith North | F4: Closed/Arrested
A5: 43835 | B5: 43835 | C5: All Other Offenses | D5: 200105-0004 | E5: 7-Eleven - 1510Brambleton Ave | F5: Inactive
A6: 43835 | B6: 43835 | C6: VOID | D6: 200105-0005 | E6: VOID | F6: VOID
A7: 43838 | B7: 43838 | C7: Suspicious Person | D7: 200108-0006 | E7: Dick Price Stadium | F7: Closed
A8: 43840 | B8: 43840 | C8: MVA | D8: 200110-0007 | E8: Lot 4 | F8: Inactive
A9: 43840 | B9: 43840 | C9: MVA | D9: 200110-0008 | E9: Lot 22 | F9: Closed
A10: 43840 | B10: 43840 | C10: Destruction/Damage/Vandalism | D10: 200110-0009 | E10: Lot 13 | F10: Closed
A11: 43841 | B11: 43841 | C11: Disruptive Behavior | D11: 200111-0010 | E11: Babbette Smith North | F11: Closed
A12: 43841 | B12: 43841 | C12: Simple Assault | D12: 200111-0011 | E12: Rosa Alexander | F12: Administrative Sanction
A13: 43842 | B13: 43842 | C13: Information Only | D13: 200112-0012 | E13: Spartan Suites | F13: Inactive
... A214: 44116 | B214: 44116 | C214: Profane, Threatening Language | D214: 201012-0213 | E214: Babbette Smith North | F214: Administrative Sanction
A215: 10/18/20520 | B215: 10/18/20520 | C215: Credit Card Fraud | D215: 201018-0214 | E215: 280 Park Ave | F215: Inactive
A216: 10/18/20520 | B216: 10/18/20520 | C216: Petit Larceny | D216: 201018-0215 | E216: Babbette Smith South | F216: Inactive
A217: 10/24/22020 | B217: 10/24/22020 | C217: Trespass Notice | D217: 201024-0216 | E217: Babbette Smith South | F217: Closed
A218: 10/24/22020 | B218: 10/24/22020 | C218: Information Only | D218: 201024-0217 | E218: Police Headquarters | F218: Inactive
A219: 44131 | B219: 44131 | C219: Information Only | D219: 201027-0218 | E219: 820 W. 46th Street | F219: Inactive
A220: 44131 | B220: 44131 | C220: Information Only | D220: 201027-0219 | E220: 8600 Glen Myrtle Ave | F220: Inactive
A221: 44131 | B221: 44131 | C221: Destruction/Damage/Vandalism | D221: 201027-0220 | E221: 1015 W. 47th Street | F221: Closed
A222: 44131 | B222: 44131 | C222: All Other Offenses | D222: 201027-0221 | E222: Samuel Scott Hall | F222: Administrative Sanction
A223: 44863 | B223: 44133 | C223: All Other Offenses | D223: 201029-0222 | E223: Babbette Smith North | F223: Closed
A224: 44134 | B224: 44134 | C224: Alcohol Violation | D224: 201030-0223 | E224: Charles Smith | F224: Administrative Sanction
A225: 44134 | B225: 44134 | C225: Alcohol Violation | D225: 201030-0224 | E225: Lee Smith | F225: Administrative Sanction
A226: 44134 | B226: 44134 | C226: Brandishing Firearm | D226: 201030-0225 | E226: Police Headquarters | F226: Inactive
A227: 44137 | B227: 44137 | C227: Petit Larceny | D227: 201102-0226 | E227: Babbette Smith North | F227: Inactive
A228: 44137 | B228: 44137 | C228: Theft | D228: 201102-0227 | E228: Lee Smith | F228: Inactive
A229: 44137 | B229: 44137 | C229: All Other Offenses | D229: 201103-0228 | E229: Hyatt Place Hotel | F229: Closed
A230: 44138 | B230: 44138 | C230: Theft from Motor Vehicle | D230: 201104-0229 | E230: Lot 24 | F230: Inactive
... A253: 44199 | B253: 44199 | C253: Information Only | D253: 210103-0001 | E253: 900 Blk Park Ave | F253: Inactive

Sheet 2021 Daily Log 
A1: Report Date | B1: Report Time | C1: Offense Date | D1: Offense Title | E1: Case # | F1: Location | G1: Disposition
A2: 44199 | B2: 0.90694444 | C2: 44199 | D2: Aggravated Assault | E2: 210103-0001 | F2: 900 Blk Park Ave | G2: Closed/Arrested
A3: 44202 | B3: 0.09375 | C3: 44202 | D3: Weapon Violation | E3: 210110-0274 | F3: 2501 Corprew Ave. | G3: Unfounded
A4: 44215 | B4: 0.4125 | C4: 44215 | D4: Vandalism | E4: 210119-0002 | F4: Dick Price Stadium | G4: Inactive
A5: 44224 | B5: 0.93194444 | C5: 44224 | D5: Simple Assault | E5: 210128-0003 | F5: Spartan Suites | G5: Inactive
A6: 44225 | B6: 0.475 | C6: 44225 | D6: Petit Larceny | E6: 210129-0004 | F6: Spartan Suites Lot | G6: Inactive
A7: 44225 | B7: 0.48472222 | C7: 44225 | D7: Theft from Motor Vehicle | E7: 210129-0005 | F7: Lot #13 | G7: Inactive
A8: 44231 | B8: 0.48888889 | C8: 44153 | D8: Larceny/Theft | E8: 210204-0006 | F8: Samuel Scott Hall | G8: Inactive
A9: 44236 | B9: 0.76319444 | C9: 44236 | D9: Injured Person | E9: 210209-0007 | F9: Gills Gym | G9: Closed
A10: 44240 | B10: 0.89375 | C10: 44240 | D10: Drug Violation | E10: 210213-0008 | F10: 950 Park Ave. | G10: Administrative Sanction
A11: 44242 | B11: 0.44166667 | C11: 44242 | D11: Destruction/Damage/Vandalism | E11: 210215-0009 | F11: Lot #14 | G11: Inactive
A12: 44242 | B12: 0.80486111 | C12: 44242 | D12: Petit Larceny | E12: 210215-0010 | F12: Babbette Smith South | G12: Inactive
A13: 44248 | B13: 0.74861111 | C13: 44248 | D13: Petit Larceny | E13: 210221-0011 | F13: Lot #7 | G13: Inactive
... A20: 44270 | B20: 0.47361111 | C20: 44270 | D20: Simple Assault | E20: 210315-0018 | F20: Charles Smith | G20: Closed
A21: 44272 | B21: 0.043055556 | C21: 44272 | D21: Drug Violation | E21: 210317-0019 | F21: Dick Price Stadium
A22: 44274 | C22: 44274 | D22: VOID | E22: 210319-0020 | F22: VOID | G22: VOID
A23: 44274 | B23: 0.73611111 | C23: 44274 | D23: Larceny/Theft | E23: 210319-0021 | F23: Spartan Suites | G23: Inactive
A24: 44275 | B24: 0.85555556 | C24: 44275 | D24: Destruction/Damage/Vandalism | E24: 210320-0022 | F24: Lot #13 | G24: Inactive
A25: 44276 | C25: 44276 | D25: VOID | E25: 210321-0023 | F25: VOID | G25: VOID
A26: 44276 | B26: 0.70833333 | C26: 44276 | D26: Theft from Motor Vehicle | E26: 210321-0024 | F26: 1500 Bond St. | G26: Unfounded
A27: 44282 | B27: 0.75138889 | C27: 44282 | D27: Vandalism | E27: 210327-0025 | F27: Lot #14 | G27: Closed
A28: 44282 | B28: 0.13333333 | C28: 44282 | D28: Failure To Comply | E28: 210327-0026 | F28: Lot #22 | G28: Closed
A29: 44282 | B29: 0.66736111 | C29: 44282 | D29: Trespass Notice | E29: 210327-0027 | F29: Robinson Tech | G29: Arrested
A30: 44284 | B30: 0.88402778 | C30: 44284 | D30: Drug Violation | E30: 210329-0028 | F30: Robinson Tech | G30: Administrative Sanction
A31: 44287 | B31: 0.68263889 | C31: 44287 | D31: Simple Assault | E31: 210401-0029 | F31: Hamme Fine Arts Bldg | G31: Administrative Sanction
A32: 44288 | B32: 0.875 | C32: 44288 | D32: Info Only (Threat Over Airway) | E32: 210402-0030 | F32: Wilson Hall | G32: Inactive
A33: 44290 | B33: 0.089583333 | C33: 44290 | D33: Shots Fired/Weapon | E33: 210404-0031 | F33: Babbette Smith North | G33: Closed
A34: 44294 | B34: 0.065277778 | C34: 44294 | D34: Public Intoxication | E34: 210408-0032 | F34: 7-11 Brambleton Ave | G34: Arrested
A35: 44294 | B35: 0.72083333 | C35: 44294 | D35: Physical Altercation | E35: 210408-0033 | F35: New Residential Complex | G35: Administrative Sanction
A36: 44294 | B36: 0.95208333 | C36: 44294 | D36: Traffic Stop | E36: 210408-0034 | F36: 2500 Corprew Ave | G36: Arrested
A37: 44295 | B37: 0.65138889 | C37: 44295 | D37: Outstanding Warrant | E37: 210409-0035 | F37: Facilities | G37: Closed
... A46: 44314 | B46: 0.55208333 | C46: 44314 | D46: Injured Person | E46: 210428-0044 | F46: Rosa Alexander | G46: Closed
A47: 44312 | C47: 44312 | D47: VOID | E47: 210426-0045 | F47: VOID | G47: VOID
A48: 44315 | B48: 0.92847222 | C48: 44315 | D48: Weapon Violation | E48: 210519-0455 | F48: 700 Park Ave | G48: Unfounded
A49: 44315 | B49: 0.93611111 | C49: 44315 | D49: Weapon Violation | E49: 210430-0775 | F49: 700 Park Ave | G49: Unfounded
A50: 44315 | B50: 0.52916667 | C50: 44315 | D50: Destruction/Damage/Vandalism | E50: 210429-0046 | F50: Lot #7 | G50: Closed
A51: 44315 | B51: 0.62777778 | C51: 44315 | D51: All Other Offenses | E51: 210429-0047 | F51: Babbette Smith South | G51: Closed
A52: 44316 | B52: 0.53402778 | C52: 44316 | D52: Conduct that Threatens (Endanger Health) | E52: 210430-0048 | F52: Babbette Smith North | G52: Inactive
A53: 44317 | B53: 0.20763889 | C53: 44317 | D53: Contempt of Court | E53: 210501-0049 | F53: Police Headquarters | G53: Closed/Arrested
A54: 44318 | B54: 0.80625 | C54: 44318 | D54: Petit Larceny | E54: 210502-0050 | F54: Babbette Smith South | G54: Active
...

Sheet 2022 Daily Log
A1: Report Date | B1: Report Time | C1: Offense Date | D1: Offense Time | E1: Offense Title | F1: Case # | G1: Location | H1: Disposition
A2: 44562 | B2: 08:00 | C2: 44562 | D2: 0.99930556 | E2: No Criminal Incidents Reported to NSUPD | F2: No Data | G2: No Data | H2: No Data
A3: 44563 | B3: 08:00 | C3: 44563 | D3: 0.99930556 | E3: No Criminal Incidents Reported to NSUPD | F3: No Data | G3: No Data | H3: No Data
A4: 44564 | B4: 08:00 | C4: 44564 | D4: 0.99930556 | E4: No Criminal Incidents Reported to NSUPD | F4: No Data | G4: No Data | H4: No Data
A5: 44565 | B5: 08:00 | C5: 44565 | D5: 0.99930556 | E5: No Criminal Incidents Reported to NSUPD | F5: No Data | G5: No Data | H5: No Data
A6: 44566 | B6: 00:26 | C6: 44565 | D6: 0.73333333 | E6: Bomb Threat | F6: 2220104-0001 | G6: 2501 Corprew Ave. | H6: Active
A7: 44567 | B7: 08:00 | C7: 44567 | D7: 0.99930556 | E7: No Criminal Incidents Reported to NSUPD | F7: No Data | G7: No Data | H7: No Data
A8: 44568 | B8: 08:00 | C8: 44568 | D8: 0.99930556 | E8: No Criminal Incidents Reported to NSUPD | F8: No Data | G8: No Data | H8: No Data
A9: 44569 | B9: 08:00 | C9: 44569 | D9: 0.99930556 | E9: No Criminal Incidents Reported to NSUPD | F9: No Data | G9: No Data | H9: No Data
A10: 44570 | B10: 08:00 | C10: 44570 | D10: 0.99930556 | E10: No Criminal Incidents Reported to NSUPD | F10: No Data | G10: No Data | H10: No Data
A11: 44571 | B11: 08:00 | C11: 44571 | D11: 0.99930556 | E11: No Criminal Incidents Reported to NSUPD | F11: No Data | G11: No Data | H11: No Data
A12: 44572 | B12: 0.51666667 | C12: 44486 | D12: 0.51666667 | E12: Sexual Assault | F12: 220111-0002 | G12: Unknown (off campus) | H12: Active
A13: 44573 | B13: 0.59652778 | C13: 44569 | D13: 0.94444444 | E13: Vandalism | F13: 220112-0003 | G13: 950 Park Ave. | H13: Closed
A14: 44573 | B14: 0.87013889 | C14: 44571 | D14: 0.86111111 | E14: Unauthorized Access or Entry | F14: 220113-0004 | G14: New Residents Hall Lot 14A | H14: Active
A15: 44574 | B15: 08:00 | C15: 44574 | D15: 0.99930556 | E15: No Criminal Incidents Reported to NSUPD | F15: No Data | G15: No Data | H15: No Data
A16: 44575 | B16: 08:00 | C16: 44575 | D16: 0.99930556 | E16: No Criminal Incidents Reported to NSUPD | F16: No Data | G16: No Data | H16: No Data
A17: 44576 | B17: 08:00 | C17: 44576 | D17: 0.99930556 | E17: No Criminal Incidents Reported to NSUPD | F17: No Data | G17: No Data | H17: No Data
A18: 44577 | B18: 08:00 | C18: 44577 | D18: 0.99930556 | E18: No Criminal Incidents Reported to NSUPD | F18: No Data | G18: No Data | H18: No Data
A19: 44578 | B19: 08:00 | C19: 44578 | D19: 0.99930556 | E19: No Criminal Incidents Reported to NSUPD | F19: No Data | G19: No Data | H19: No Data
A20: 44579 | B20: 08:00 | C20: 44579 | D20: 0.99930556 | E20: No Criminal Incidents Reported to NSUPD | F20: No Data | G20: No Data | H20: No Data
A21: 44580 | B21: 09:28 | C21: 44580 | D21: 0.39097222 | E21: Disorderly Conduct/Irrate Person | F21: 220119-0005 | G21: Lot 12 Behind Bozeman | H21: Active
A22: 44580 | B22: 0.73541667 | C22: 44580 | D22: 0.73541667 | E22: MVA/Hit and Run Property Damage | F22: 220119-0006 | G22: 599 Park Ave. | H22: Closed
A23: 44581 | B23: 08:00 | C23: 44581 | D23: 0.99930556 | E23: No Criminal Incidents Reported to NSUPD | F23: No Data | G23: No Data | H23: No Data
A24: 44582 | B24: 08:00 | C24: 44582 | D24: 0.99930556 | E24: No Criminal Incidents Reported to NSUPD | F24: No Data | G24: No Data | H24: No Data
A25: 44583 | B25: 08:00 | C25: 44583 | D25: 0.99930556 | E25: No Criminal Incidents Reported to NSUPD | F25: No Data | G25: No Data | H25: No Data
A26: 44584 | B26: 0.62361111 | C26: 44584 | D26: 0.041666667 | E26: Vandalism | F26: 220123-0007 | G26: 900 Park Ave | H26: Closed
A27: 44584 | B27: 0.62361111 | C27: 44584 | D27: 0.62152778 | E27: Threatening Behavior | F27: 220123-0008 | G27: 900 Park Ave | H27: Active
A28: 44585 | B28: 02:18 | C28: 44585 | D28: 02:00 | E28: Simple Assault | F28: 220124-0009 | G28: 2501 Corprew Ave. | H28: Active
A29: 44586 | B29: 0.65 | C29: 44585 | D29: 0.82291667 | E29: Simple Assault | F29: 220125-0010 | G29: 2601 Corprew Ave. | H29: Closed
A30: 44587 | B30: 0.74791667 | C30: 44587 | D30: 0.74305556 | E30: Larceny/Theft | F30: 220127-0011 | G30: 2501 Corprew Ave. Lot 14-A | H30: Closed
A31: 44588 | B31: 08:00 | C31: 44588 | D31: 0.99930556 | E31: No Criminal Incidents Reported to NSUPD | F31: No Data | G31: No Data | H31: No Data
A32: 44589 | B32: 08:00 | C32: 44589 | D32: 0.99930556 | E32: No Criminal Incidents Reported to NSUPD | F32: No Data | G32: No Data | H32: No Data
A33: 44590 | B33: 08:00 | C33: 44590 | D33: 0.99930556 | E33: No Criminal Incidents Reported to NSUPD | F33: No Data | G33: No Data | H33: No Data
A34: 44591 | B34: 08:00 | C34: 44591 | D34: 0.99930556 | E34: No Criminal Incidents Reported to NSUPD | F34: No Data | G34: No Data | H34: No Data
A35: 44592 | B35: 08:00 | C35: 44592 | D35: 0.99930556 | E35: No Criminal Incidents Reported to NSUPD | F35: No Data | G35: No Data | H35: No Data
A36: 44593 | B36: 08:00 | C36: 44593 | D36: 0.99930556 | E36: No Criminal Incidents Reported to NSUPD | F36: No Data | G36: No Data | H36: No data
A37: 44594 | B37: 0.4375 | C37: 44593 | D37: 0.53125 | E37: Vandalism | F37: 220202-0013 | G37: 1500 Bond Street | H37: Closed
A38: 44595 | B38: 0.66805556 | C38: 44595 | D38: 0.33333333 | E38: Physical Altercation | F38: 220203-0014 | G38: New Residents Hall | H38: Active
A39: 44596 | B39: 01:19 | C39: 44595 | D39: 0.95833333 | E39: Larceny/Theft | F39: 220204-0016 | G39: Spartan Suites - 2601 Corprew Ave | H39: Closed
A40: 44597 | B40: 08:00 | C40: 44597 | D40: 0.99930556 | E40: No Criminal Incidents Reported to NSUPD | F40: No Data | G40: No Data | H40: No Data
...

Sheet 2023 Daily Crime Log
A1: Report Date | B1: Report Time | C1: Offense Date | D1: Offense Time | E1: Offense Title | F1: Case # | G1: Location | H1: Disposition
A2: 44927 | B2: 08:00 | C2: 44926 | D2: 0.99930556 | E2: No Criminal Incidents Reported to NSUPD | F2: No Data | G2: No Data | H2: No Data
A3: 44928 | B3: 08:00 | C3: 44927 | D3: 0.99930556 | E3: No Criminal Incidents Reported to NSUPD | F3: No Data | G3: No Data | H3: No Data
A4: 44928 | B4: 00:24 | C4: 44928 | D4: 0.016666667 | E4: Driving Under Influence (DUI) | F4: 230102-0001 | G4: Ballentine Blvd | H4: Active
A5: 44930 | B5: 08:00 | C5: 44929 | D5: 0.99930556 | E5: No Criminal Incidents Reported to NSUPD | F5: No Data | G5: No Data | H5: No Data
A6: 44930 | B6: 0.6875 | C6: 44930 | D6: 0.47916667 | E6: Sexual Assault | F6: 230104-0002 | G6: Nursing Ed. Bldg | H6: Active
A7: 44931 | B7: 0.69444444 | C7: 44931 | D7: 0.66666667 | E7: Vandalism | F7: 230105-0003 | G7: Babbette Smith North | H7: Closed
A8: 44933 | B8: 08:00 | C8: 44567 | D8: 0.99930556 | E8: No Criminal Incidents Reported to NSUPD | F8: No Data | G8: No Data | H8: No Data
A9: 44934 | B9: 08:00 | C9: 44568 | D9: 0.99930556 | E9: No Criminal Incidents Reported to NSUPD | F9: No Data | G9: No Data | H9: No Data
A10: 44935 | B10: 08:00 | C10: 44569 | D10: 0.99930556 | E10: No Criminal Incidents Reported to NSUPD | F10: No Data | G10: No Data | H10: No Data
A11: 44936 | B11: 08:00 | C11: 44935 | D11: 0.99930556 | E11: No Criminal Incidents Reported to NSUPD | F11: No Data | G11: No Data | H11: No Data
A12: 44937 | B12: 08:00 | C12: 44936 | D12: 0.99930556 | E12: No Criminal Incidents Reported to NSUPD | F12: No Data | G12: No Data | H12: No Data
A13: 44938 | B13: 08:00 | C13: 44937 | D13: 0.99930556 | E13: No Criminal Incidents Reported to NSUPD | F13: No Data | G13: No Data | H13: No Data
A14: 44939 | B14: 08:00 | C14: 44938 | D14: 0.99930556 | E14: No Criminal Incidents Reported to NSUPD | F14: No Data | G14: No Data | H14: No Data
A15: 44940 | B15: 08:00 | C15: 44939 | D15: 0.99930556 | E15: No Criminal Incidents Reported to NSUPD | F15: No Data | G15: No Data | H15: No Data
A16: 44940 | B16: 0.77777778 | C16: 44940 | D16: 0.5625 | E16: Destruction /Damage/Vandalism of Property | F16: 230114-0005 | G16: 2500 Corprew Ave | H16: Closed
A17: 44940 | B17: 0.77430556 | C17: 44940 | D17: 0.77083333 | E17: Drugs Violation | F17: 230114-0006 | G17: Joe Echols Hall | H17: Closed
A18: 44942 | B18: 08:00 | C18: 44941 | D18: 0.99930556 | E18: No Criminal Incidents Reported to NSUPD | F18: No Data | G18: No Data | H18: No Data
A19: 44942 | B19: 02:46 | C19: 44942 | D19: 02:45 | E19: Hit & Run | F19: 230116-0007 | G19: Lot 13 | H19: Closed
A20: 44943 | B20: 0.96458333 | C20: 44943 | D20: 0.47916667 | E20: Threat To Do Bodily Harm | F20: 230117-0008 | G20: Charles Smith | H20: Closed
A21: 44944 | B21: 20:58 | C21: 44944 | D21: 08:00 | E21: Fraud | F21: 230118-0009 | G21: Police Hdqt | H21: Closed
A22: 44946 | B22: 08:00 | C22: 44945 | D22: 0.99930556 | E22: No Criminal Incidents Reported to NSUPD | F22: No Data | G22: No Data | H22: No Data
A23: 44946 | B23: 18:59 | C23: 44946 | D23: 0.79097222 | E23: Warrant | F23: 230121-0012 | G23: Gate 8 | H23: Active
A24: 44948 | B24: 08:00 | C24: 44947 | D24: 0.99930556 | E24: No Criminal Incidents Reported to NSUPD | F24: No Data | G24: No Data | H24: No Data
A25: 44949 | B25: 08:00 | C25: 44948 | D25: 0.99930556 | E25: No Criminal Incidents Reported to NSUPD | F25: No Data | G25: No Data | H25: No Data
A26: 44949 | B26: 0.54444444 | C26: 44949 | D26: 0.54444444 | E26: Drugs Violation | F26: 230123-0014 | G26: Lot 13 | H26: Closed
A27: 44950 | B27: 0.76666667 | C27: 44950 | D27: 0.74305556 | E27: All Other Larceny | F27: 230124-0016 | G27: Lot 4 | H27: Closed
A28: 44952 | B28: 08:00 | C28: 44951 | D28: 0.99930556 | E28: No Criminal Incidents Reported to NSUPD | F28: No Data | G28: No Data | H28: No Data
A29: 44952 | B29: 0.52847222 | C29: 44952 | D29: 0.52847222 | E29: MVA Hit Pedestrian | F29: 230126-0017 | G29: Joe Echols Hall | H29: Active
A30: 44952 | B30: 0.55486111 | C30: 44938 | D30: 0.98055556 | E30: Fraud | F30: 230126-0018 | G30: Samuel Scott | H30: Active
A31: 44953 | B31: 0.62152778 | C31: 44953 | D31: 0.62013889 | E31: Drugs Violation | F31: 230127-0019 | G31: Spartan Park | H31: Closed
A32: 44954 | B32: 0.51944444 | C32: 44953 | D32: 0.57291667 | E32: Larceny | F32: 230128-0020 | G32: Babbette Smith South | H32: Closed
A33: 44955 | B33: 08:00 | C33: 44954 | D33: 0.99930556 | E33: No Criminal Incidents Reported to NSUPD | F33: No Data | G33: No Data | H33: No Data
A34: 44956 | B34: 0.63541667 | C34: 44956 | D34: 0.61458333 | E34: Shooting In Unoccupied Dwelling | F34: 230130-0021 | G34: 2426 Corprew Ave (Alumni House) | H34: Closed
A35: 44957 | B35: 0.62361111 | C35: 44943 | D35: 08:30 | E35: Petit Larceny | F35: 230131-0022 | G35: Scott/Dozier Hall | H35: Active
A36: 44957 | B36: 0.81944444 | C36: 44957 | D36: 0.82638889 | E36: Stolen Vehicle | F36: 230131-0023 | G36: 900 Marathon Ave | H36: Active
A37: 44958 | B37: 03:48 | C37: 44958 | D37: 03:48 | E37: Trespass Violation | F37: 230201-0024 | G37: Babbette Smith South | H37: Closed/Arrested
A38: 44958 | B38: 13:30 | C38: 44958 | D38: 09:00 | E38: Accident | F38: 230201-0025 | G38: 1159 Lance Rd. | H38: Closed
A39: 44958 | B39: 0.41666667 | C39: 44958 | D39: 09:55 | E39: Burglary | F39: 230201-0027 | G39: 2612 Corprew Ave. | H39: Closed
A40: 44960 | B40: 08:00 | C40: 44959 | D40: 0.99930556 | E40: No Criminal Incidents Reported to NSUPD | F40: No Data | G40: No Data | H40: No Data
...

Sheet 2024 Daily Crime Log
A1: Report Date | B1: Report Time | C1: Offense Date | D1: Offense Time | E1: Offense Title | F1: Case # | G1: Location | H1: Disposition
A2: 45292 | B2: 08:00 | C2: 45292 | D2: 0.99930556 | E2: ='2023 Daily Crime Log'!E8 -> No Criminal Incidents Reported to NSUPD | F2: ='2023 Daily Crime Log'!F8 -> No Data | G2: ='2023 Daily Crime Log'!G8 -> No Data | H2: ='2023 Daily Crime Log'!H8 -> No Data
A3: 45293 | B3: 08:00 | C3: 45293 | D3: 0.99930556 | E3: ='2023 Daily Crime Log'!E9 -> No Criminal Incidents Reported to NSUPD | F3: ='2023 Daily Crime Log'!F9 -> No Data | G3: ='2023 Daily Crime Log'!G9 -> No Data | H3: ='2023 Daily Crime Log'!H9 -> No Data
A4: 45294 | B4: 08:00 | C4: 45294 | D4: 0.99930556 | E4: ='2023 Daily Crime Log'!E10 -> No Criminal Incidents Reported to NSUPD | F4: ='2023 Daily Crime Log'!F10 -> No Data | G4: ='2023 Daily Crime Log'!G10 -> No Data | H4: ='2023 Daily Crime Log'!H10 -> No Data
A5: 45295 | B5: 08:00 | C5: 45295 | D5: 0.99930556 | E5: No Criminal Incidents Reported to NSUPD | F5: ='2023 Daily Crime Log'!F11 -> No Data | G5: ='2023 Daily Crime Log'!G11 -> No Data | H5: ='2023 Daily Crime Log'!H11 -> No Data
A6: 45296 | B6: 0.95694444 | C6: 45296 | D6: 0.95694444 | E6: DUI | F6: 240106-0002 | G6: 1000 Blk Park Ave. | H6: Arrested
A7: 45298 | B7: 0.91944444 | C7: 45297 | D7: 0.75 | E7: Drug Violation | F7: 240107-0004 | G7: Spartan Suites | H7: Unfounded
A8: 45298 | B8: 08:00 | C8: 45298 | D8: 0.99930556 | E8: ='2023 Daily Crime Log'!E14 -> No Criminal Incidents Reported to NSUPD | F8: ='2023 Daily Crime Log'!F14 -> No Data | G8: ='2023 Daily Crime Log'!G14 -> No Data | H8: ='2023 Daily Crime Log'!H14 -> No Data
A9: 45299 | B9: 05:53 | C9: 45299 | D9: 05:23 | E9: Damage to Property (State/Personal) | F9: 240108-0005 | G9: 800 Blk of Ballentine Blvd | H9: Closed
A10: 45299 | B10: 0.87430556 | C10: 45299 | D10: 0.87430556 | E10: DUI | F10: 240109-0006 | G10: 700 Park Ave | H10: Arrested
A11: 44935 | B11: 08:15 | C11: 45299 | D11: 0.90277778 | E11: Vandalism | F11: 240109-0007 | G11: Lot 13 | H11: Active
A12: 45300 | B12: 08:34 | C12: 45299 | D12: 0.96527778 | E12: Vandalism | F12: 240109-0010 | G12: Lot 13 | H12: Active
A13: 45301 | B13: 08:00 | C13: 45301 | D13: 0.99930556 | E13: No Criminal Incidents Reported to NSUPD | F13: ='2023 Daily Crime Log'!F18 -> No Data | G13: ='2023 Daily Crime Log'!G18 -> No Data | H13: ='2023 Daily Crime Log'!H18 -> No Data
A14: 45302 | B14: 08:00 | C14: 45302 | D14: 0.99930556 | E14: No Criminal Incidents Reported to NSUPD | F14: No Data | G14: No Data | H14: No Data
A15: 45303 | B15: 08:34 | C15: 45299 | D15: 0.91666667 | E15: Vandalism | F15: 240109-0011 | G15: Lot 13 | H15: Active
A16: 45303 | B16: 08:34 | C16: 45299 | D16: 0.90277778 | E16: Vandalism | F16: 240109-0012 | G16: Lot 13 | H16: Active
A17: 45303 | B17: 0.54513889 | C17: 45303 | D17: 0.54375 | E17: Weapon Violation | F17: 240113-0014 | G17: New Residential Complex | H17: Closed
A18: 45304 | B18: 0.99027778 | C18: 45304 | D18: 0.99027778 | E18: DUI | F18: 240114-0015 | G18: 1400 Brambleton Ave | H18: Arrested
A19: 45305 | B19: 08:00 | C19: 45305 | D19: 0.99930556 | E19: No Criminal Incidents Reported to NSUPD | F19: ='2023 Daily Crime Log'!F25 -> No Data | G19: ='2023 Daily Crime Log'!G25 -> No Data | H19: ='2023 Daily Crime Log'!H25 -> No Data
A20: 45306 | B20: 08:00 | C20: 45306 | D20: 0.99930556 | E20: No Criminal Incidents Reported to NSUPD | F20: No Data | G20: No Data | H20: No Data
A21: 45308 | B21: 01:40 | C21: 45307 | D21: 0.47916667 | E21: Simple Assault (Dating Violence) | F21: 240117-0018 | G21: Rosa Alexander | H21: Active
A22: 45308 | B22: 08:00 | C22: 45308 | D22: 0.99930556 | E22: No Criminal Incidents Reported to NSUPD | F22: No Data | G22: No Data | H22: No Data
A23: 44944 | B23: 08:13 | C23: 44944 | D23: 08:13 | E23: Damage to Property (State/Personal) | F23: 240118-0020 | G23: Library | H23: Closed
A24: 45310 | B24: 08:00 | C24: 45310 | D24: 0.99930556 | E24: No Criminal Incidents Reported to NSUPD | F24: No Data | G24: No Data | H24: No Data
A25: 45311 | B25: 08:00 | C25: 45311 | D25: 0.99930556 | E25: No Criminal Incidents Reported to NSUPD | F25: No Data | G25: No Data | H25: No Data
A26: 45312 | B26: 08:00 | C26: 45312 | D26: 0.99930556 | E26: No Criminal Incidents Reported to NSUPD | F26: No Data | G26: No Data | H26: No Data
A27: 45313 | B27: 0.83958333 | C27: 45313 | D27: 0.83958333 | E27: Fire Structure w/Damage | F27: 240122-0021 | G27: Spartan Suites | H27: Closed
A28: 45314 | B28: 08:00 | C28: 45314 | D28: 0.99930556 | E28: No Criminal Incidents Reported to NSUPD | F28: No Data | G28: No Data | H28: No Data
A29: 45315 | B29: 0.425 | C29: 45314 | D29: 0.79166667 | E29: Petit Larceny (Credit Card Fraud) | F29: 240124-0025 | G29: No Data | H29: No Data
A30: 45316 | B30: 08:00 | C30: 45316 | D30: 0.99930556 | E30: No Criminal Incidents Reported to NSUPD | F30: No Data | G30: No Data | H30: No Data
A31: 45317 | B31: 0.90347222 | C31: 45317 | D31: 0.90347222 | E31: Theft from Motor Vehicle | F31: 240126-0028 | G31: 700 Park Ave | H31: Closed
A32: 45317 | B32: 0.9875 | C32: 45317 | D32: 0.78125 | E32: Larceny/Theft | F32: 240126-0029 | G32: Student Center | H32: Active
A33: 45318 | B33: 0.51041667 | C33: 45318 | D33: 0.5 | E33: Damage to Property (State/Personal) | F33: 240127-0030 | G33: Nursing Edu. Bldg. | H33: Closed
A34: 45318 | B34: 0.5125 | C34: 45318 | D34: 0.5 | E34: Simple Assault | F34: 240127-0031 | G34: Babbette Smith North | H34: Closed
A35: 45319 | B35: 0.69930556 | C35: 45319 | D35: 0.69930556 | E35: Drug Violation | F35: 240128-0032 | G35: New Residential Complex | H35: Closed
A36: 45320 | B36: 08:00 | C36: 45320 | D36: 0.99930556 | E36: No Criminal Incidents Reported to NSUPD | F36: No Data | G36: No Data | H36: No Data
A37: 45321 | B37: 08:00 | C37: 45321 | D37: 0.99930556 | E37: No Criminal Incidents Reported to NSUPD | F37: No Data | G37: No Data | H37: No Data
A38: 45322 | B38: 08:00 | C38: 45322 | D38: 0.99930556 | E38: No Criminal Incidents Reported to NSUPD | F38: No Data | G38: No Data | H38: No Data
A39: 45323 | B39: 08:00 | C39: 45323 | D39: 0.99930556 | E39: No Criminal Incidents Reported to NSUPD | F39: No Data | G39: No Data | H39: No Data
A40: 45324 | B40: 0.84444444 | C40: 45324 | D40: 0.84444444 | E40: Drug & Alcohol Violation | F40: 240202-0038 | G40: Lot 14A | H40: Closed
...

Sheet 2025 Daily Crime Log
A1: Report Date | B1: Report Time | C1: Offense Date | D1: Offense Time | E1: Offense Title | F1: Case # | G1: Location | H1: Disposition
A2: 45658 | B2: 08:00 | C2: 45658 | D2: 0.99930556 | E2: No Criminal Incidents Reported to NSUPD | F2: No Data | G2: No Data | H2: No Data
A3: 45659 | B3: 08:00 | C3: 45659 | D3: 0.99930556 | E3: No Criminal Incidents Reported to NSUPD | F3: No Data | G3: No Data | H3: No Data
A4: 45660 | B4: 0.45833333 | C4: 45660 | D4: 0.65625 | E4: Fire With Structure Damage | F4: 250103-0002 | G4: New Residential Complex | H4: Closed
A5: 45661 | B5: 08:00 | C5: 45661 | D5: 0.99930556 | E5: No Criminal Incidents Reported to NSUPD | F5: No Data | G5: No Data | H5: No Data
A6: 45662 | B6: 08:00 | C6: 45662 | D6: 0.99930556 | E6: No Criminal Incidents Reported to NSUPD | F6: No Data | G6: No Data | H6: No Data
A7: 45663 | B7: 08:00 | C7: 45663 | D7: 0.99930556 | E7: No Criminal Incidents Reported to NSUPD | F7: No Data | G7: No Data | H7: No Data
A8: 45664 | B8: 08:00 | C8: 45664 | D8: 0.99930556 | E8: No Criminal Incidents Reported to NSUPD | F8: No Data | G8: No Data | H8: No Data
A9: 45665 | B9: 08:00 | C9: 45665 | D9: 0.99930556 | E9: No Criminal Incidents Reported to NSUPD | F9: No Data | G9: No Data | H9: No Data
A10: 45666 | B10: 08:00 | C10: 45666 | D10: 0.99930556 | E10: No Criminal Incidents Reported to NSUPD | F10: No Data | G10: No Data | H10: No Data
A11: 45667 | B11: 12:29 | C11: 45667 | D11: 0.52013889 | E11: Small fire no damage | F11: No Data | G11: Near Wilson Hall | H11: Extinguished by PO
A12: 45667 | B12: 15:44 | C12: 45667 | D12: 0.65555556 | E12: Multiple Agency Police Pursuit | F12: No Data | G12: Park Ave & E. Brambleton Ave | H12: Arrested by NPD
A13: 45667 | B13: 0.77152778 | C13: 45581 | D13: 0.79166667 | E13: False Pretense/Swindle/Confidence Game | F13: 250110-0003 | G13: 2300 Maude B. Davis | H13: Active
A14: 45668 | B14: 0.19722222 | C14: 45668 | D14: 0.029166667 | E14: Driving Under Influence (DUI) (DWI) | F14: 250111-0004 | G14: 1000 Park Ave | H14: Arrested
A15: 45669 | B15: 0.60416667 | C15: 45669 | D15: 0.51388889 | E15: False Identification to LEO | F15: 250112-0005 | G15: 1510 Brambleton Ave (7-11) | H15: Arrested
A16: 45670 | B16: 08:00 | C16: 45670 | D16: 0.99930556 | E16: No Criminal Incidents Reported to NSUPD | F16: No Data | G16: No Data | H16: No Data
A17: 45671 | B17: 08:00 | C17: 45671 | D17: 0.99930556 | E17: No Criminal Incidents Reported to NSUPD | F17: No Data | G17: No Data | H17: No Data
A18: 45672 | B18: 08:00 | C18: 45672 | D18: 0.99930556 | E18: No Criminal Incidents Reported to NSUPD | F18: No Data | G18: No Data | H18: No Data
A19: 45673 | B19: 08:00 | C19: 45673 | D19: 0.99930556 | E19: No Criminal Incidents Reported to NSUPD | F19: No Data | G19: No Data | H19: No Data
A20: 45674 | B20: 0.83333333 | C20: 45674 | D20: 0.94930556 | E20: Warrants Outstanding For Other Agency | F20: 250117-0007 | G20: 1501 E. Brambleton Ave. (7-11) | H20: Arrested
A21: 45675 | B21: 0.75347222 | C21: 45675 | D21: 0.72430556 | E21: MVA Hit/Run With Injuries | F21: 250118-0008 | G21: 2251 Presidential Pkwy. (Lot 3) | H21: Closed
A22: 45676 | B22: 08:00 | C22: 45676 | D22: 0.99930556 | E22: No Criminal Incidents Reported to NSUPD | F22: No Data | G22: No Data | H22: No Data
A23: 45677 | B23: 0.5625 | C23: 45677 | D23: 0.56111111 | E23: Robbery | F23: 250120-0010 | G23: 850 Gym Rd. | H23: Active
A24: 45677 | B24: 0.055555556 | C24: 45677 | D24: 0.86319444 | E24: Warrants Outstanding For Other Agency | F24: 250120-0011 | G24: 1000 Park Ave | H24: Arrested
A25: 45678 | B25: 0.79166667 | C25: 45678 | D25: 0.875 | E25: Damage Of Property | F25: 250122-0012 | G25: 2400 Gym Rd. | H25: Closed
A26: 45679 | B26: 11:42 | C26: 45678 | D26: 0.4375 | E26: Petit Larceny | F26: 250128-0020 | G26: 2771 Middle Towne Cres (Spartan Station) | H26: Unfounded
A27: 45680 | B27: 0.083333333 | C27: 45680 | D27: 0.041666667 | E27: Fire Structure With Damage | F27: 250123-0013 | G27: 2701 Middle Towne Cres. (Charles Smith) | H27: Closed
A28: 45680 | B28: 0.75 | C28: 45680 | D28: 0.725 | E28: Larceny/Theft | F28: 250123-0015 | G28: 2491 Corprew Ave. (Scott Dozier Dining Hall) | H28: Closed
A29: 45681 | B29: 08:00 | C29: 45681 | D29: 0.99930556 | E29: No Criminal Incidents Reported to NSUPD | F29: No Data | G29: No Data | H29: No Data
A30: 45682 | B30: 0.17152778 | C30: 45682 | D30: 0.0048611111 | E30: Driving Under Influence (DUI) (DWI) | F30: 250125-0016 | G30: 3025 E. Virginia Beach Blvd. | H30: Arrested
A31: 45682 | B31: 0.070833333 | C31: 45682 | D31: 0.85138889 | E31: Warrants Outstanding For Other Agency | F31: 250125-0017 | G31: 1100 Park Ave | H31: Arrested
A32: 45683 | B32: 0.10138889 | C32: 45683 | D32: 0.072916667 | E32: Alcohol Violation | F32: 250126-0018 | G32: 2201 Maude B. Davis Dr. (Rosa Alexander) | H32: Closed
A33: 45684 | B33: 08:00 | C33: 45684 | D33: 0.99930556 | E33: No Criminal Incidents Reported to NSUPD | F33: No Data | G33: No Data | H33: No Data
A34: 45685 | B34: 10:24 | C34: 45685 | D34: 0.43194444 | E34: Larceny/Theft | F34: 240201-0024 | G34: 2771 Middle Towne Cres (Spartan Station) | H34: Closed
A35: 45686 | B35: 08:00 | C35: 45686 | D35: 0.99930556 | E35: No Criminal Incidents Reported to NSUPD | F35: No Data | G35: No Data | H35: No Data
A36: 45687 | B36: 08:00 | C36: 45687 | D36: 0.99930556 | E36: No Criminal Incidents Reported to NSUPD | F36: No Data | G36: No Data | H36: No Data
A37: 45688 | B37: 08:00 | C37: 45688 | D37: 0.99930556 | E37: No Criminal Incidents Reported to NSUPD | F37: No Data | G37: No Data | H37: No Data
A38: 45689 | B38: 08:00 | C38: 45689 | D38: 0.99930556 | E38: No Criminal Incidents Reported to NSUPD | F38: No Data | G38: No Data | H38: No Data
A39: 45690 | B39: 08:00 | C39: 45690 | D39: 0.99930556 | E39: No Criminal Incidents Reported to NSUPD | F39: No Data | G39: No Data | H39: No Data
A40: 45691 | B40: 10:32 | C40: 45585 | D40: 0.91666667 | E40: Fondling | F40: 250203-0025 | G40: 5115 Hampton Blvd | H40: Closed
...

Sheet 2026 Daily Crime Log 
A1: Report Date | B1: Report Time | C1: Offense Date | D1: Offense Time | E1: Offense Title | F1: Case # | G1: Location | H1: Disposition
A2: 46023 | B2: 0.21875 | C2: 46023 | D2: 0.12083333 | E2: Trespass | F2: 260101-0001 | G2: 700 Park Ave. | H2: Closed Arrest
A3: 46024 | B3: 0.33333333 | C3: 46024 | D3: 0.99930556 | E3: No Criminal Incidents Reported to NSUPD | F3: No Data | G3: No Data | H3: No Data
A4: 46025 | B4: 0.33333333 | C4: 46025 | D4: 0.99930556 | E4: No Criminal Incidents Reported to NSUPD | F4: No Data | G4: No Data | H4: No Data
A5: 46026 | B5: 0.33333333 | C5: 46026 | D5: 0.99930556 | E5: No Criminal Incidents Reported to NSUPD | F5: No Data | G5: No Data | H5: No Data
A6: 46027 | B6: 0.33333333 | C6: 46027 | D6: 0.99930556 | E6: No Criminal Incidents Reported to NSUPD | F6: No Data | G6: No Data | H6: No Data
A7: 46028 | B7: 0.33333333 | C7: 46028 | D7: 0.99930556 | E7: No Criminal Incidents Reported to NSUPD | F7: No Data | G7: No Data | H7: No Data
A8: 46029 | B8: 0.33333333 | C8: 46029 | D8: 0.99930556 | E8: No Criminal Incidents Reported to NSUPD | F8: No Data | G8: No Data | H8: No Data
A9: 46030 | B9: 0 | C9: 46029 | D9: 0.89166667 | E9: Eluding Police | F9: 260108-0002 | G9: 800 Park Ave. | H9: Inactive
A10: 46031 | B10: 0.96944444 | C10: 46031 | D10: 0.94930556 | E10: Drug Violation | F10: 260109-0003 | G10: 2701 Middle Towne Cres. | H10: Closed Exception
A11: 46032 | B11: 0.53472222 | C11: 46032 | D11: 0.53055556 | E11: Drug Violation | F11: 260109-0004 | G11: 2500 Blk of Corprew Ave. | H11: Closed Exception
A12: 46032 | B12: 0.8375 | C12: 46032 | D12: 0.78611111 | E12: Damage to Property | F12: 260110-0005 | G12: 2501 Corprew Ave. | H12: Closed
A13: 46033 | B13: 0.775 | C13: 46033 | D13: 0.12638889 | E13: Alcohol Violation | F13: 260111-0006 | G13: 900 Park Ave. | H13: Closed Exception
... A331: 38933 | B331: 0.64583333 | C331: 46238 | D331: 0.48263889 | E331: Larceny/Theft | F331: 260804-0284 | G331: 2439 Corprew Ave (Lot 14A) | H331: Active
A332: 46239 | B332: 0.91666667 | C332: 46239 | D332: 0.85208333 | E332: Trespass | F332: 260805 | G332: 840 Gym Rd. | H332: Closed
A333: 46240 | B333: 0.75 | C333: 46240 | D333: 0.55416667 | E333: Warrants Outstanding for Other Agency | F333: 260806-0286 | G333: 2501 Corprew Ave. | H333: Closed/Arrest
A334: 46606 | B334: 0.33333333 | C334: 46241 | D334: 0.99930556 | E334: No Criminal Incidents Reported to NSUPD | F334: No Data | G334: No Data | H334: No Data
A335: 46242 | B335: 0.65625 | C335: 46242 | D335: 0.61458333 | E335: Underage Marijuana Possession | F335: 260808-0289 | G335: 2539 Corprew Ave. | H335: Closed Exception
A336: 46608 | B336: 0.33333333 | C336: 46243 | D336: 0.99930556 | E336: No Criminal Incidents Reported to NSUPD | F336: No Data | G336: No Data | H336: No Data
A337: 46244 | B337: 0.51527778 | C337: 46244 | D337: 0.52083333 | E337: Underage Marijuana Possession | F337: 260810-0291 | G337: 2593 Corprew Ave. | H337: Closed Exception
A338: 46245 | B338: 0.89583333 | C338: 46245 | D338: 0.75138889 | E338: Warrants Outstanding for Other Agency | F338: 260811-0292 | G338: Gate 1 | H338: Closed Arrest
A339: 46611 | B339: 0.33333333 | C339: 46246 | D339: 0.99930556 | E339: No Criminal Incidents Reported to NSUPD | F339: No Data | G339: No Data | H339: No Data
A340: 46613 | B340: 0.036111111 | C340: 46247 | D340: 0.94583333 | E340: Warrants Outstanding for Other Agency | F340: 260813-0293 | G340: 2500 Presidential Pkwy | H340: Closed Arrest
A341: 46248 | B341: 0.84305556 | C341: 46248 | D341: 0.79166667 | E341: Assault & Battery (Simple) | F341: 260814-0294 | G341: 1 Corprew Ave. (New Res.) | H341: Closed Exception
A342: 46614 | B342: 0.33333333 | C342: 46249 | D342: 0.99930556 | E342: No Criminal Incidents Reported to NSUPD | F342: No Data | G342: No Data | H342: No Data
A343: 46250 | B343: 0.63333333 | C343: 46250 | D343: 0.61875 | E343: Assault & Battery (Simple) | F343: 260816-0295 | G343: 805 Park Ave. (Park Place Apt.) | H343: Active
A344: 46251 | B344: 0.28958333 | C344: 46250 | D344: 0 | E344: Assault & Battery (Simple) | F344: 260817-0297 | G344: 900 Paark Ave. (Lot 23) | H344: Closed Exception
... A433: 46302 | B433: 0.85902778 | C433: 46302 | D433: 0.8125 | E433: Damage to Property (State/Personal) | F433: 261007-0388 | G433: 900 Park Ave. | H433: Closed
