Workbook
Name _Hlk126580222: '2024 Daily Crime Log'!$A$395
Name _Hlk83902175: '2022 Daily Log'!$A$422
Name _Hlk83902372: '2022 Daily Log'!$A$423

Sheet  2017-2018 Daily Log
A1: Report Date | B1: Offense Date | C1: Offense Title | D1: Case # | E1: Location | F1: Disposition
A2: 43070 | B2: 43070 | C2: Disruptive Student | D2: SR20171201-0667 | E2: Nursing Building | F2: Administration Sanction
A3: 43070 | B3: 43070 | C3: Verbal Altercation | D3: SR20171201-0669 | E3: Spartan Suites | F3: Administration Sanction
A4: 43070 | B4: 43070 | C4: Theft from building | D4: 20171201-0670 | E4: Lee Smith Hall | F4: Inactive
A5: 43070 | B5: 43070 | C5: Simple Assault | D5: 20171201-0671 | E5: Student Center | F5: Inactive
A6: 43071 | B6: 43071 | C6: Communicating Threats | D6: 20171202-0672 | E6: Spartan suites | F6: Closed
A7: 43073 | B7: 43073 | C7: Sexual Assault Off Campus | D7: 20171204-0673 | E7: City Of Norfolk unknown | F7: Closed / NPD
A8: 43073 | B8: 43073 | C8: Drug Paraphernalia | D8: SR20171204-0674 | E8: Spartan Suites | F8: Administration Sanction
A9: 43073 | B9: 43073 | C9: Disruptive Behavior | D9: SR20171204-0675 | E9: Babbette Smith North | F9: Administration Sanction
A10: 43074 | B10: 43074 | C10: Injured Person | D10: 20171205-0676 | E10: Student Service Center | F10: Closed
A11: 43074 | B11: 43074 | C11: Extortion | D11: 20171205-0677 | E11: Rosa Alexander Hall | F11: Inactive
A12: 43075 | B12: 43075 | C12: Lost Property | D12: 20171207-0678 | E12: Wilder Center | F12: Closed
A13: 43076 | B13: 43076 | C13: Injured Person | D13: 20171207-0679 | E13: Lot 14 | F13: Closed
... A131: 43150 | B131: 43150 | C131: Suspicious Person | D131: 20180219-0101 | E131: Student Services | F131: Closed
A132: 02/20/2018 | B132: 02/20/2018 | C132: Disorderly Conduct | D132: SR20180220-0102 | E132: Twin Towers North | F132: Administration Sanction
A133: 02/22/2018 | B133: 02/22/2018 | C133: Disruptive Behavior | D133: SR20180222-0103 | E133: Robinson Tech | F133: Administration Sanction
A134: 02/22/2018 | B134: 02/22/2018 | C134: Hit and Run Vehicle | D134: 20180222-0104 | E134: Lot 14 | F134: Closed
A135: 02/22/2018 | B135: 02/22/2018 | C135: Theft from Building | D135: 20180222-0105 | E135: Rosa Alexander | F135: Closed
A136: 02/22/2018 | B136: 02/22/2018 | C136: MVA Property Damage | D136: 20180222-0106 | E136: Softball Field | F136: Closed
A137: 02/23/2018 | B137: 02/23/2018 | C137: Harassment | D137: SR20180223-0107 | E137: Bozeman Education | F137: Administration Sanction
A138: 02/23/2018 | B138: 02/23/2018 | C138: Verbal Dispute | D138: 20180223-0108 | E138: Facilities | F138: Closed
A139: 43155 | B139: 43155 | C139: Alcohol Violation | D139: SR20180224-0109 | E139: Lot #8 | F139: Administration Sanction
A140: 43156 | B140: 43156 | C140: Alcohol Violation | D140: SR20180225-0110 | E140: Lee Smith | F140: Administration Sanction
A141: 43156 | B141: 43156 | C141: MVA Hit and Run Property Damage | D141: 20180225-0113 | E141: Lot 13 | F141: Closed
A142: 43158 | B142: 43158 | C142: Maliciously Discharging a Weapon | D142: SR20180227-0114 | E142: Babbette Smith South | F142: Inactive
A143: 43158 | B143: 43158 | C143: Weapon Violation | D143: SR20180227-0115 | E143: Babbette Smith South | F143: Administration Sanction
A144: 43158 | B144: 43158 | C144: Vandalism | D144: 20180227-0116 | E144: McDemmond Ctr | F144: Closed
A145: 43158 | B145: 43158 | C145: Auto Accident w/o injuries | D145: 20180227-0117 | E145: Lot 4 | F145: Inactive
A146: 43158 | B146: 43158 | C146: Drug Violation | D146: SR20180227-0118 | E146: Rosa Alexander | F146: Administration Sanction
A147: 43158 | B147: 43158 | C147: Suspicious Activity | D147: 20180227-0119 | E147: Library | F147: Closed
A148: 43158 | B148: 43158 | C148: Violating of University Policy | D148: SR20180227-0120 | E148: Babbette Smith South | F148: Administration Sanction
A149: 43159 | B149: 43159 | C149: Injured Person | D149: 20180228-0121 | E149: Police Headquarters | F149: Closed
A150: 43159 | B150: 43159 | C150: Fraud | D150: 20180228-0122 | E150: Lot 13 | F150: Administration Sanction
... A197: 43186 | B197: 43186 | C197: Trespass Notice | D197: 20180327-0169 | E197: Brooks Library | F197: Closed
A198: 43187 | B198: 1/28-3/28/2018 | C198: Theft From Vehicle | D198: 20180328-0170 | E198: Lot 12 | F198: Administration Sanction
A199: 43187 | B199: 43187 | C199: Hit and Run Pedestrian | D199: 20180328-0171 | E199: 2500 Block of Corprew | F199: Inactive
A200: 43188 | B200: 43188 | C200: Trespass | D200: 20180329-0172 | E200: Spartan Suites | F200: Arrest
A201: 43189 | B201: 43189 | C201: Indecent Exposure | D201: 20180330-0173 | E201: Robinson Tech | F201: Closed/Arrested
A202: 43191 | B202: 43191 | C202: Theft from Building | D202: 20180401-0174 | E202: Gills Gym | F202: Closed
A203: 43192 | B203: 43192 | C203: Warrant Summons (Information Only) | D203: 20180402-0175 | E203: 1600 Block of Brambleton Avenue | F203: Closed
A204: 43192 | B204: 43192 | C204: Drug Violation | D204: 20180402-0176 | E204: Tennis Court | F204: Administration Sanction
A205: 43192 | B205: 43192 | C205: Outstanding Warrant | D205: 20180402-0177 | E205: Gate #8 | F205: Arrested
A206: 43193 | B206: 43193 | C206: Damage to State Property | D206: 20180403-0178 | E206: Bozeman Education | F206: Closed
A207: 43193 | B207: 43193 | C207: Verbal Altercation `(Information Only) | D207: 20180403-0179 | E207: Lot 4 | F207: Closed
A208: 43194 | B208: 43194 | C208: Runaway | D208: 20180404-0180 | E208: Fine Arts Building Lot | F208: Transported to CPD
A209: 43194 | B209: 43194 | C209: Injured Person | D209: 20180404-0181 | E209: Student Center | F209: Closed
A210: 43194 | B210: 43194 | C210: Threats to Harm Oneself (Information Only) | D210: 20180404-0182 | E210: Babbette Smith | F210: Closed
... A291: 43254 | B291: 43254 | C291: Damage to Property (Information Only) | D291: 20180603-0261 | E291: Ballentine Blvd (Practice Field) | F291: Closed
A292: 43256 | B292: 5/25-5/28/18 | C292: Petty Larceny | D292: 20180605-0262 | E292: Spartan Suites | F292: Inactive
A293: 43258 | B293: 43258 | C293: Trespass / Drug Violation | D293: 20180607-0264 | E293: Nursing Education (Campus Tower) | F293: Arrested
A294: 43258 | B294: 43258 | C294: Theft From Building | D294: 20180607-0265 | E294: Spartan Suites | F294: Inactive
A295: 43259 | B295: 43259 | C295: Auto Accident with Injuries | D295: 20180608-0266 | E295: 700 Block of Park Ave | F295: Closed
A296: 43262 | B296: 43262 | C296: Injured Person | D296: 20180611-0267 | E296: Gills Gym | F296: Transported to Hospital
A297: 43263 | B297: 43263 | C297: Sexual Assault | D297: 20180612-0268 | E297: Spartan Suites | F297: Arrest
A298: 43264 | B298: 43264 | C298: Weapon Violation | D298: 20180613-0269 | E298: Spartan Suites | F298: Administration Sanction
A299: 43265 | B299: 43265 | C299: Vandalism | D299: 20180614-0270 | E299: Lot 13 | F299: Closed
A300: 43266 | B300: 43266 | C300: Theft From Building | D300: 20180615-0271 | E300: Student Service Center | F300: Closed
A301: 43269 | B301: 43269 | C301: Drug Paraphernalia | D301: 20160618-0272 | E301: Lot#7 | F301: Administration Sanction
A302: 43269 | B302: 43269 | C302: Theft from Auto | D302: 20180618-0273 | E302: Lot 13 | F302: Closed
A303: 6/19/2018 | B303: 43270 | C303: Damage to State Property | D303: 20180618-0274 | E303: Brooks Library | F303: Inactive
A304: 43272 | B304: 43272 | C304: Ill Person | D304: 20180621-0275 | E304: Wood Science | F304: Transported to Hospital
A305: 43272 | B305: 43272 | C305: Trespass | D305: 20180621-0276 | E305: Spartan Suites | F305: Arrest
A306: 43272 | B306: 43272 | C306: Drug Violation | D306: 20180621-0277 | E306: Spartan Suites | F306: Administration Sanction
A307: 43274 | B307: 43274 | C307: Injured Person | D307: 20180623-0278 | E307: Dick Price Stadium | F307: Closed
A308: 43275 | B308: 43275 | C308: Outstanding Warrant from Another Agency | D308: 20180625-0279 | E308: 700 Block of Park Avenue | F308: Arrest
A309: 43276 | B309: 43276 | C309: Auto Accident | D309: 20180625-0280 | E309: Gate 3 | F309: Closed
A310: 43276 | B310: 43271 | C310: Damage to Property | D310: 20180625-0281 | E310: Brown Hall | F310: Closed
A311: 43278 | B311: 43278 | C311: Damage to State Vehicle | D311: 20180627-0282 | E311: Lot 14 | F311: Closed
A312: 43282 | B312: 43282 | C312: Burglary | D312: 20180701-0284 | E312: Spartan Suites | F312: Inactive
A313: 43282 | B313: 43282 | C313: Trespassing | D313: 20180701-0285 | E313: Practice Field | F313: Closed
A314: 43282 | B314: 43282 | C314: Damage to State property | D314: 20180701-0287 | E314: Library | F314: Closed
A315: 43283 | B315: 43283 | C315: Damage to Property | D315: 20180702-0287 | E315: Lot 7 | F315: Closed
... A451: 43377 | B451: 43377 | C451: Trespass | D451: 20181004-0422 | E451: Spartan Suites | F451: Trespass Notice Issued
A452: 43379 | B452: 43379 | C452: Theft from Vehicle | D452: 20181006-0423 | E452: Lot 7
A453: 43381 | B453: 43381 | C453: Trespass Notice | D453: 20181008-0424 | E453: Outside of Wilder Center | F453: Trespass Notice Issued
A454: 43382 | B454: 43382 | C454: Public Intoxication | D454: 20181009-0425 | E454: Greek Row | F454: Administration Sanction
A455: 43384 | B455: 43384 | C455: Trespass | D455: 20181011-0426 | E455: Spartan Park | F455: Trespass Noticed Issued
A456: 43384 | B456: 43384 | C456: Injured Person | D456: 20181011-0427 | E456: Lot 22
A457: 43384 | B457: 43384 | C457: Theft from Vehicle | D457: 20181011-0428 | E457: Lot 22 | F457: Inactive
A458: 43386 | B458: 43386 | C458: Rape | D458: 20181013-0429 | E458: Rosa Alexander | F458: Inactive
A459: 43386 | B459: 43386 | C459: Suspicious Person | D459: 20181013-0430 | E459: Brown Hall | F459: Trespass Notice Issued
A460: 43386 | B460: 43386 | C460: Smiply Assault | D460: 20181013-0431 | E460: Mid Rise | F460: Administration Sanction
A461: 43387 | B461: 43387 | C461: Damage to state Property | D461: 20181014-0432 | E461: Charles Smith
A462: 43387 | B462: 43387 | C462: Unauthorized Entry | D462: 20181014-0433 | E462: Spartan Suites | F462: Administration Sanction
A463: 43388 | B463: 43388 | C463: Threatening Behavior | D463: 20181015-0434 | E463: Lee Smith | F463: Administration Sanction
A464: 43388 | B464: 43388 | C464: Unauthorized Entry | D464: 20181015-0435 | E464: Mid Rise
A465: 43388 | B465: 43388 | C465: Trespass Notice | D465: 20181015-0436 | E465: Library | F465: Trespass Notice Issued
A466: 43389 | B466: 43389 | C466: Breaking Entrying | D466: 20181016-0437 | E466: Spartan Suites | F466: Inactive
A467: 43389 | B467: 43389 | C467: Disruptive Behavior | D467: 20181016-0438 | E467: Spartan Suites | F467: Administration Sanction
A468: 43390 | B468: 43390 | C468: Assault & Battery | D468: 20181017-0439 | E468: Babbette Smith South | F468: Closed
A469: 43390 | B469: 43390 | C469: Theft from Building | D469: 20181017-0440 | E469: Student Center | F469: Closed
A470: 43391 | B470: 43391 | C470: Assault | D470: 20181018-0441 | E470: Joe Echols Hall | F470: Administration Sanction
A471: 43391 | B471: 43391 | C471: Burglary | D471: 20181017-0442 | E471: Spartan Suites | F471: Closed
A472: 43391 | B472: 43391 | C472: Burglary | D472: 20181017-0443 | E472: Spartan Suites | F472: Closed
A473: 43391 | B473: 43391 | C473: Threatening Behavior | D473: 20181018-0444 | E473: Lot 7 | F473: Administration Sanction
A474: 43392 | B474: 43392 | C474: Theft From Vehicle | D474: 20181019-0445 | E474: Lot 13 | F474: Inactive
A475: 43392 | B475: 43392 | C475: Theft From Vehicle | D475: 20181019-0446 | E475: Lot 22 | F475: Inactive
A476: 43392 | B476: 43392 | C476: Threatening Behavior | D476: 20181019-0447 | E476: Off Campus (Chesapeake, Va) | F476: Closed
... A484: 43396 | B484: 43396 | C484: Burglary | D484: 20181023-0455 | E484: Fine Arts Building | F484: Inactive
D485: 20181023-0456
...

Sheet 2019 Daily Log
A1: Report Date | B1: Offense Date | C1: Offense Title | D1: Case # | E1: Location | F1: Disposition
A2: 43466 | B2: 43466 | C2: Damage to State Property | D2: 20190105-0001 | E2: Lot #14 | F2: Closed
A3: 43469 | B3: 43469 | C3: Disruptive Behavior | D3: 20190101-0002 | E3: Library | F3: Inactive
A4: 43470 | B4: 43470 | C4: Burglary | D4: 20190104-0003 | E4: Spartan Suites | F4: Inactive
A5: 43471 | B5: 43471 | C5: Trespass | D5: 20190106-0004 | E5: Spartan Suites | F5: Inactive
A6: 43472 | B6: 43472 | C6: Information Only | D6: 20190107-0005 | E6: Spartan Suites | F6: Inactive
A7: 43473 | B7: 43473 | C7: Vehicle Accident | D7: 20190108-0006 | E7: Lot #4 | F7: Closed
A8: 43473 | B8: 43473 | C8: Vehicle Accident | D8: 20190108-0007 | E8: 1600 Corprew Ave | F8: Closed
A9: 43473 | B9: 43473 | C9: Failure to Comply | D9: 20190108-0008 | E9: Lot #23 | F9: Closed
A10: 43474 | B10: 43474 | C10: Damage to Property | D10: 20190109-0009 | E10: Lot 22 | F10: Closed
A11: 43474 | B11: 43474 | C11: Drug Violation | D11: 20190109-0010 | E11: Brambleton Center | F11: Closed
A12: 43474 | B12: 43474 | C12: Stalking | D12: 20190109-0011 | E12: Nursing Ed. Building | F12: Inactive
A13: 43475 | B13: 43475 | C13: MVA Hit and Run Property Damage | D13: 20190110-0012 | E13: Lot #7 | F13: Closed
... A37: 43489 | B37: 43489 | C37: VOID | D37: 20190124-0036 | E37: VOID | F37: VOID
A38: 43490 | B38: 0/25/2019 | C38: Injured Person | D38: 20190125-0037 | E38: Robinson Technology Building | F38: Inactive
A39: 43490 | B39: 43490 | C39: Fraud | D39: 20190125-0038 | E39: Student Center | F39: Inactive
A40: 43490 | B40: 43490 | C40: Petty Larceny | D40: 20190125-0039 | E40: Lot 14 | F40: Inactive
A41: 43492 | B41: 43492 | C41: Weapon Violation | D41: 20190127-0140 | E41: Lot 22 | F41: Inactive
A42: 43492 | B42: 43492 | C42: Drug Violation | D42: 20190127-0141 | E42: Lot 22 | F42: Arrest
A43: 43492 | B43: 43492 | C43: Larceny | D43: 20190127-0042 | E43: Gills Gym | F43: Inactive
A44: 43493 | B44: 43493 | C44: Threatening Behavior | D44: 20190128-0043 | E44: Student Center | F44: Inactive
A45: 43493 | B45: 43493 | C45: Larceny | D45: 20190128-0044 | E45: Wilder Center Loading Dock | F45: Administrative Sanction
A46: 43493 | B46: 43493 | C46: Strong Arm Robbery | D46: 20190128-0045 | E46: 700 Block of Olney Road | F46: Inactive
A47: 43494 | B47: 43494 | C47: Threatening Over Air Ways | D47: 20190129-0046 | E47: Samuel Scott | F47: Closed
A48: 43495 | B48: 43495 | C48: Drug Violation | D48: 20190130-0047 | E48: Babbette Smith South | F48: Inactive
A49: 43496 | B49: 43496 | C49: Suspicious | D49: 20190131-0048 | E49: Lot 22 | F49: Inactive
A50: 43498 | B50: 43498 | C50: Vandalism | D50: 20190202-0049 | E50: Lot 27 | F50: Closed
... A112: 43530 | B112: 43530 | C112: Injured Person | D112: 20190306-0110 | E112: Student Service Center | F112: Closed
B113: 43531 | C113: 43531 | D113: 20190307-0111 | E113: Scott Hall | F113: Closed
A114: 43532 | B114: 43532 | C114: Physical Altercation | D114: 20190308-0112 | E114: Spartan Suites | F114: Administrative Sanction
A115: 43532 | B115: 43532 | C115: Auto Accident w/o injuries | D115: 20190305-0113 | E115: Lot 28 | F115: Closed
A116: 43536 | B116: 43536 | C116: Destruction of Property | D116: 20190312-0114 | E116: 1400 Bond St. | F116: Inactive
A117: 43536 | B117: 43536 | C117: Failure to Comply | D117: 20190312-0115 | E117: Lot 13 | F117: Closed
A118: 43536 | B118: 43536 | C118: Threat To Harm Oneself | D118: 20190312-0116 | E118: Scott Hall | F118: Closed
A119: 43538 | B119: 43538 | C119: Physical Altercation | D119: 20190314-0117 | E119: Scott Dozier | F119: Closed
A120: 43538 | B120: 43538 | C120: Damage to property | D120: 20190314-0118 | E120: Lot 14 | F120: Closed
A121: 43539 | B121: 43539 | C121: Simple Assault | D121: 20190315-0119 | E121: Spartan Suites | F121: Administrative Sanction
A122: 43539 | B122: 43539 | C122: Dating Violence | D122: 20190315-0119 | E122: Spartan Suites | F122: Administrative Sanction
A123: 43541 | B123: 43541 | C123: Burglary | D123: 20190317-0120 | E123: Babbette Smith North | F123: Inactive
A124: 43542 | B124: 43542 | C124: Injured Person | D124: 20190318-0121 | E124: Brown Hall | F124: Inactive
A125: 43542 | B125: 43542 | C125: Wheel Lock Removal | D125: 20190318-0122 | E125: Lot 8 | F125: Inactive
... A138: 43548 | B138: 43548 | C138: Outstanding Warrant Information Only | D138: 20190324-0135 | E138: Lot 1 | F138: Arrest
A139: 43549 | B139: 43549 | C139: Property Damage | D139: 20190325-0136 | E139: Lot 14
A140: 43549 | B140: 43549 | C140: MVA No Injuries | D140: 20190325-0137 | E140: Lot 17 | F140: Closed
A141: 43549 | B141: 43549 | C141: Burglary/Trespass | D141: 20190325-0138 | E141: Spartan Suites | F141: Administrative Sanction
A142: 43549 | B142: 43549 | C142: Fire | D142: 20190325-0139 | E142: Charles Smith | F142: Inactive
A143: 43551 | B143: 43551 | C143: Drug Violation | D143: 20190327-0140 | E143: Spartan Suites | F143: Administrative Sanction
A144: 43552 | B144: 43552 | C144: Missing Property | D144: 20190328-0141 | E144: Bowser Industrial | F144: Inactive
A145: 43552 | B145: 43552 | C145: Drug Violation | D145: 20190328-0142 | E145: Greek Row | F145: Administrative Sanction
A146: 43552 | B146: 43552 | C146: Information Only | D146: 20190328-0143 | E146: Lot 13 | F146: Closed
A147: 43552 | B147: 43552 | C147: Threats To Do Bodily Harm | D147: 20190329-0144 | E147: Interstate 264-West | F147: Inactive
A148: 43552 | B148: 43552 | C148: Robbery | D148: 20190329-0145 | E148: Football Practice Field | F148: Closed
A149: 43553 | B149: 43553 | C149: Failure to Comply | D149: 20190329-0146 | E149: Lot 14 | F149: Inactive
A150: 43553 | B150: 43553 | C150: Simple Assault | D150: 20190329-0147 | E150: New Student Center | F150: Closed
A151: 43554 | B151: 43554 | C151: Loud Music/Party | D151: 20190330-0148 | E151: Spartan Suites | F151: Closed
... A320: 43714 | B320: 43714 | C320: Alcohol | D320: 20190906-0316 | E320: Echols Hall | F320: Administrative Sanction
A321: 43714 | B321: 43714 | D321: 20190906-0317 | E321: Lot 29 | F321: Administrative Sanction
A322: 43714 | B322: 43714 | C322: VOID | D322: 20190906-0318 | E322: VOID
A323: 43714 | B323: 43714 | C323: Theft | D323: 20190906-0319 | E323: Scott Hall | F323: Administrative Sanction
C324: VOID | D324: 20190905-0320 | E324: VOID
A325: 43715 | B325: 43715 | C325: Threatening Behavior | D325: 20190907-0321 | E325: Lee Smith Hall | F325: Inactive
A326: 43715 | B326: 43715 | C326: All Other Offenses | D326: 20190907-0322 | E326: Lot 23 | F326: Inactive
A327: 43715 | B327: 43715 | C327: Grand Larceny | D327: 20190907-0323 | E327: Lot 13 | F327: Closed
A328: 43715 | B328: 43715 | C328: Theft from Building | D328: 20190908-0324 | E328: Babbette Smith North | F328: Closed
A329: 43715 | B329: 43715 | C329: Burglary/Breaking & Entering | D329: 20190908-0325 | E329: Babbette Smith North | F329: Inactive
A330: 43715 | B330: 43715 | C330: Alcohol Violation | D330: 20190908-0326 | E330: Lot 24 | F330: Closed/Arrested
A331: 43715 | B331: 43715 | C331: Drug Violation | D331: 20190908-0327 | E331: Lot 24 | F331: Administrative Sanction
A332: 43716 | B332: 43716 | C332: Failure to Comply | D332: 20190909-0328 | E332: Robinson Technology Building | F332: Administrative Sanction
A333: 43717 | B333: 43717 | C333: Theft from Building | D333: 20190909-0329 | E333: New Residential Complex | F333: Inactive
A334: 43717 | B334: 43717 | C334: Injured Person | D334: 20190909-0330 | E334: Gate 3 | F334: Inactive
A335: 43717 | B335: 43717 | C335: VOID | D335: 20190909-0331 | E335: VOID | F335: VOID
A336: 43718 | B336: 43718 | C336: All Other Offenses | D336: 20190910-0332 | E336: Holiday Inn | F336: Closed
... A387: 43732 | B387: 43732 | C387: Drug/Alcohol / weapons violation | D387: 20190924-0383 | E387: Spartan Suites | F387: Inactive
A388: 43733 | B388: 43733 | C388: VOID | D388: 20190925-0384 | E388: VOID
A389: 43733 | B389: 43733 | C389: Theft from Vehicle | D389: 20190925-0385 | E389: Lot 23 | F389: Inactive
A390: 43733 | B390: 43733 | C390: Fire | D390: 20190925-0386 | E390: McDemmond Center | F390: Closed
A391: 43734 | B391: 43734 | C391: ILL Person (Information Only) | D391: 20190926-0387 | E391: Lee Smith | F391: Closed
A392: 43734 | B392: 43734 | C392: VOID | D392: 20190926-0388 | E392: VOID
A393: 43734 | B393: 43734 | C393: Theft From Building (Decal) | D393: 20190926-0389 | E393: Rosa Alexander (Open Field) | F393: Inactive
A394: 43734 | B394: 43734 | C394: Suspicious Person/ trespass | D394: 20190926-0390 | E394: Nursing Building | F394: Closed
A395: 43734 | B395: 43734 | C395: Drug Violation | D395: 20190926-0391 | E395: Babbette Smith South | F395: Closed
A396: 43735 | B396: 43735 | C396: Threats to Harm oneself | D396: 20190927-0392 | E396: Spartan Suites | F396: Closed
A397: 43735 | B397: 43735 | C397: Failure to Comply | D397: 20190927-0393 | E397: Tennis Court | F397: Inactive
A398: 43735 | B398: 43735 | C398: Threatening Behavior | D398: 20190927-0394 | E398: Samuel Scott Hall | F398: Inactive
A399: 43735 | B399: 43735 | C399: Injured Person | D399: 20190927-0395 | E399: Midrise | F399: Closed
A400: 43735 | B400: 43735 | C400: Drugs/Trespass | D400: 20190927-0396 | E400: Lot 13 | F400: Closed
A401: 43736 | B401: 43736 | C401: Drug Violation | D401: 20190928-0397 | E401: Robinson Tech | F401: Closed
A402: 43736 | B402: 43736 | C402: Hit / Run DUI | D402: 20190928-0398 | E402: Lot#8 | F402: Closed/Arrested
A403: 43736 | B403: 43736 | C403: Burglary | D403: 20190928-0399 | E403: Rosa Alexander | F403: Inactive
A404: 43737 | B404: 43737 | C404: Drug Violation | D404: 20190929-0400 | E404: Dick Price Stadium | F404: Closed
... A430: 43745 | B430: 43745 | C430: Verbal Altercation | D430: 20191007-0426 | E430: Spartan Suites | F430: Inactive
A431: 43746 | B431: 43746 | C431: VOID | D431: 20191008-0427 | E431: VOID
A432: 43746 | B432: 43746 | C432: Weapon Violation | D432: 20191008-0428 | E432: Nursing Building | F432: Closed
A433: 43747 | B433: 43747 | C433: Injured Person | D433: 20191009-0429 | E433: Nursing Building | F433: Closed
A434: 43747 | B434: 43747 | C434: Threatening Behavior | D434: 20191009-0430 | E434: Brown Hall | F434: Closed
A435: 43748 | B435: 43748 | C435: Harassment over airways | D435: 20191010-0431 | E435: New Resident Hall | F435: Closed
A436: 43748 | B436: 43748 | C436: MVA Hit & Run Property | D436: 20191010-0432 | E436: South Campus Drive | F436: Inactive
A437: 43749 | B437: 43749 | C437: Drug Violation | D437: 20191011-0433 | E437: 2700 Block of Middletown Crescent | F437: Closed
A438: 43751 | B438: 43751 | C438: Larceny | D438: 20191013-0434 | E438: Lot 14A | F438: Inactive
A439: 43752 | B439: 43752 | C439: Drug Violation/possession | D439: 20191014-0435 | E439: 2500 BLK Corprew Ave | F439: Closed
...

Sheet 2020 Daily Log
A1: Report Date | B1: Offense Date | C1: Offense Title | D1: Case # | E1: Location | F1: Disposition
A2: 43832 | B2: 43832 | C2: Harassment | D2: 200102-0001 | E2: Police Headquarters | F2: Inactive
A3: 43833 | B3: 43833 | C3: Destruction/Damage/Vandalism | D3: 200103-0002 | E3: Lyman Beechman Library | F3: Closed
A4: 43834 | B4: 43834 | C4: Public Intoxication | D4: 200104-0003 | E4: Babbette Smith North | F4: Closed/Arrested
A5: 43835 | B5: 43835 | C5: All Other Offenses | D5: 200105-0004 | E5: 7-Eleven - 1510Brambleton Ave | F5: Inactive
A6: 43835 | B6: 43835 | C6: VOID | D6: 200105-0005 | E6: VOID | F6: VOID
A7: 43838 | B7: 43838 | C7: Suspicious Person | D7: 200108-0006 | E7: Dick Price Stadium | F7: Closed
A8: 43840 | B8: 43840 | C8: MVA | D8: 200110-0007 | E8: Lot 4 | F8: Inactive
A9: 43840 | B9: 43840 | C9: MVA | D9: 200110-0008 | E9: Lot 22 | F9: Closed
A10: 43840 | B10: 43840 | C10: Destruction/Damage/Vandalism | D10: 200110-0009 | E10: Lot 13 | F10: Closed
A11: 43841 | B11: 43841 | C11: Disruptive Behavior | D11: 200111-0010 | E11: Babbette Smith North | F11: Closed
A12: 43841 | B12: 43841 | C12: Simple Assault | D12: 200111-0011 | E12: Rosa Alexander | F12: Administrative Sanction
A13: 43842 | B13: 43842 | C13: Information Only | D13: 200112-0012 | E13: Spartan Suites | F13: Inactive
... A214: 44116 | B214: 44116 | C214: Profane, Threatening Language | D214: 201012-0213 | E214: Babbette Smith North | F214: Administrative Sanction
A215: 10/18/20520 | B215: 10/18/20520 | C215: Credit Card Fraud | D215: 201018-0214 | E215: 280 Park Ave | F215: Inactive
A216: 10/18/20520 | B216: 10/18/20520 | C216: Petit Larceny | D216: 201018-0215 | E216: Babbette Smith South | F216: Inactive
A217: 10/24/22020 | B217: 10/24/22020 | C217: Trespass Notice | D217: 201024-0216 | E217: Babbette Smith South | F217: Closed
A218: 10/24/22020 | B218: 10/24/22020 | C218: Information Only | D218: 201024-0217 | E218: Police Headquarters | F218: Inactive
A219: 44131 | B219: 44131 | C219: Information Only | D219: 201027-0218 | E219: 820 W. 46th Street | F219: Inactive
A220: 44131 | B220: 44131 | C220: Information Only | D220: 201027-0219 | E220: 8600 Glen Myrtle Ave | F220: Inactive
A221: 44131 | B221: 44131 | C221: Destruction/Damage/Vandalism | D221: 201027-0220 | E221: 1015 W. 47th Street | F221: Closed
A222: 44131 | B222: 44131 | C222: All Other Offenses | D222: 201027-0221 | E222: Samuel Scott Hall | F222: Administrative Sanction
A223: 44863 | B223: 44133 | C223: All Other Offenses | D223: 201029-0222 | E223: Babbette Smith North | F223: Closed
A224: 44134 | B224: 44134 | C224: Alcohol Violation | D224: 201030-0223 | E224: Charles Smith | F224: Administrative Sanction
A225: 44134 | B225: 44134 | C225: Alcohol Violation | D225: 201030-0224 | E225: Lee Smith | F225: Administrative Sanction
A226: 44134 | B226: 44134 | C226: Brandishing Firearm | D226: 201030-0225 | E226: Police Headquarters | F226: Inactive
A227: 44137 | B227: 44137 | C227: Petit Larceny | D227: 201102-0226 | E227: Babbette Smith North | F227: Inactive
A228: 44137 | B228: 44137 | C228: Theft | D228: 201102-0227 | E228: Lee Smith | F228: Inactive
A229: 44137 | B229: 44137 | C229: All Other Offenses | D229: 201103-0228 | E229: Hyatt Place Hotel | F229: Closed
A230: 44138 | B230: 44138 | C230: Theft from Motor Vehicle | D230: 201104-0229 | E230: Lot 24 | F230: Inactive
... A253: 44199 | B253: 44199 | C253: Information Only | D253: 210103-0001 | E253: 900 Blk Park Ave | F253: Inactive

Sheet 2021 Daily Log 
A1: Report Date | B1: Report Time | C1: Offense Date | D1: Offense Title | E1: Case # | F1: Location | G1: Disposition
A2: 44199 | B2: 0.90694444 | C2: 44199 | D2: Aggravated Assault | E2: 210103-0001 | F2: 900 Blk Park Ave | G2: Closed/Arrested
A3: 44202 | B3: 0.09375 | C3: 44202 | D3: Weapon Violation | E3: 210110-0274 | F3: 2501 Corprew Ave. | G3: Unfounded
A4: 44215 | B4: 0.4125 | C4: 44215 | D4: Vandalism | E4: 210119-0002 | F4: Dick Price Stadium | G4: Inactive
A5: 44224 | B5: 0.93194444 | C5: 44224 | D5: Simple Assault | E5: 210128-0003 | F5: Spartan Suites | G5: Inactive
A6: 44225 | B6: 0.475 | C6: 44225 | D6: Petit Larceny | E6: 210129-0004 | F6: Spartan Suites Lot | G6: Inactive
A7: 44225 | B7: 0.48472222 | C7: 44225 | D7: Theft from Motor Vehicle | E7: 210129-0005 | F7: Lot #13 | G7: Inactive
A8: 44231 | B8: 0.48888889 | C8: 44153 | D8: Larceny/Theft | E8: 210204-0006 | F8: Samuel Scott Hall | G8: Inactive
A9: 44236 | B9: 0.76319444 | C9: 44236 | D9: Injured Person | E9: 210209-0007 | F9: Gills Gym | G9: Closed
A10: 44240 | B10: 0.89375 | C10: 44240 | D10: Drug Violation | E10: 210213-0008 | F10: 950 Park Ave. | G10: Administrative Sanction
A11: 44242 | B11: 0.44166667 | C11: 44242 | D11: Destruction/Damage/Vandalism | E11: 210215-0009 | F11: Lot #14 | G11: Inactive
A12: 44242 | B12: 0.80486111 | C12: 44242 | D12: Petit Larceny | E12: 210215-0010 | F12: Babbette Smith South | G12: Inactive
A13: 44248 | B13: 0.74861111 | C13: 44248 | D13: Petit Larceny | E13: 210221-0011 | F13: Lot #7 | G13: Inactive
... A20: 44270 | B20: 0.47361111 | C20: 44270 | D20: Simple Assault | E20: 210315-0018 | F20: Charles Smith | G20: Closed
A21: 44272 | B21: 0.043055556 | C21: 44272 | D21: Drug Violation | E21: 210317-0019 | F21: Dick Price Stadium
A22: 44274 | C22: 44274 | D22: VOID | E22: 210319-0020 | F22: VOID | G22: VOID
A23: 44274 | B23: 0.73611111 | C23: 44274 | D23: Larceny/Theft | E23: 210319-0021 | F23: Spartan Suites | G23: Inactive
A24: 44275 | B24: 0.85555556 | C24: 44275 | D24: Destruction/Damage/Vandalism | E24: 210320-0022 | F24: Lot #13 | G24: Inactive
A25: 44276 | C25: 44276 | D25: VOID | E25: 210321-0023 | F25: VOID | G25: VOID
A26: 44276 | B26: 0.70833333 | C26: 44276 | D26: Theft from Motor Vehicle | E26: 210321-0024 | F26: 1500 Bond St. | G26: Unfounded
A27: 44282 | B27: 0.75138889 | C27: 44282 | D27: Vandalism | E27: 210327-0025 | F27: Lot #14 | G27: Closed
A28: 44282 | B28: 0.13333333 | C28: 44282 | D28: Failure To Comply | E28: 210327-0026 | F28: Lot #22 | G28: Closed
A29: 44282 | B29: 0.66736111 | C29: 44282 | D29: Trespass Notice | E29: 210327-0027 | F29: Robinson Tech | G29: Arrested
A30: 44284 | B30: 0.88402778 | C30: 44284 | D30: Drug Violation | E30: 210329-0028 | F30: Robinson Tech | G30: Administrative Sanction
A31: 44287 | B31: 0.68263889 | C31: 44287 | D31: Simple Assault | E31: 210401-0029 | F31: Hamme Fine Arts Bldg | G31: Administrative Sanction
A32: 44288 | B32: 0.875 | C32: 44288 | D32: Info Only (Threat Over Airway) | E32: 210402-0030 | F32: Wilson Hall | G32: Inactive
A33: 44290 | B33: 0.089583333 | C33: 44290 | D33: Shots Fired/Weapon | E33: 210404-0031 | F33: Babbette Smith North | G33: Closed
A34: 44294 | B34: 0.065277778 | C34: 44294 | D34: Public Intoxication | E34: 210408-0032 | F34: 7-11 Brambleton Ave | G34: Arrested
A35: 44294 | B35: 0.72083333 | C35: 44294 | D35: Physical Altercation | E35: 210408-0033 | F35: New Residential Complex | G35: Administrative Sanction
A36: 44294 | B36: 0.95208333 | C36: 44294 | D36: Traffic Stop | E36: 210408-0034 | F36: 2500 Corprew Ave | G36: Arrested
A37: 44295 | B37: 0.65138889 | C37: 44295 | D37: Outstanding Warrant | E37: 210409-0035 | F37: Facilities | G37: Closed
... A46: 44314 | B46: 0.55208333 | C46: 44314 | D46: Injured Person | E46: 210428-0044 | F46: Rosa Alexander | G46: Closed
A47: 44312 | C47: 44312 | D47: VOID | E47: 210426-0045 | F47: VOID | G47: VOID
A48: 44315 | B48: 0.92847222 | C48: 44315 | D48: Weapon Violation | E48: 210519-0455 | F48: 700 Park Ave | G48: Unfounded
A49: 44315 | B49: 0.93611111 | C49: 44315 | D49: Weapon Violation | E49: 210430-0775 | F49: 700 Park Ave | G49: Unfounded
A50: 44315 | B50: 0.52916667 | C50: 44315 | D50: Destruction/Damage/Vandalism | E50: 210429-0046 | F50: Lot #7 | G50: Closed
A51: 44315 | B51: 0.62777778 | C51: 44315 | D51: All Other Offenses | E51: 210429-0047 | F51: Babbette Smith South | G51: Closed
A52: 44316 | B52: 0.53402778 | C52: 44316 | D52: Conduct that Threatens (Endanger Health) | E52: 210430-0048 | F52: Babbette Smith North | G52: Inactive
A53: 44317 | B53: 0.20763889 | C53: 44317 | D53: Contempt of Court | E53: 210501-0049 | F53: Police Headquarters | G53: Closed/Arrested
A54: 44318 | B54: 0.80625 | C54: 44318 | D54: Petit Larceny | E54: 210502-0050 | F54: Babbette Smith South | G54: Active
A55: 44329 | B55: 0.020138889 | C55: 44329 | D55: Information Only | E55: 210514-0051 | F55: 1600 Brambleton Ave | G55: Closed
A56: 44331 | B56: 0.62986111 | C56: 44331 | D56: Petit Larceny | E56: 210516-0052 | F56: Babbette Smith South | G56: Active
A57: 44332 | B57: 0.94305556 | C57: 44332 | D57: Destruction/Damage/Vandalism | E57: 210516-0053 | F57: Dick Price Stadium | G57: Active
A58: 44333 | B58: 0.043055556 | C58: 44333 | D58: Simple Assault | E58: 210517-0054 | F58: Spartan Suites | G58: Active
A59: 44338 | B59: 0.98472222 | C59: 44338 | D59: All Other Offenses | E59: 210523-0055 | F59: Presidential Pkwy | G59: Closed
... A63: 44354 | B63: 0.78611111 | C63: 44354 | D63: Hit And Run | E63: 210607-0059 | F63: Lot 25 | G63: Active
A64: 44361 | C64: 44361 | D64: VOID | E64: 210614-0060 | F64: VOID | G64: VOID
A65: 44368 | B65: 0.625 | C65: 44368 | D65: Lost Property | E65: 210621-0061 | F65: Bozeman Bldg | G65: Inactive
A66: 44369 | B66: 0.48611111 | C66: 44369 | D66: All Other Offenses | E66: 210622-0062 | F66: Lot 13 | G66: Active
A67: 44369 | B67: 0.49513889 | C67: 44369 | D67: Theft from Motor Vehicle | E67: 210622-0063 | F67: Lot 13 | G67: Active
A68: 44369 | B68: 0.54861111 | C68: 44369 | D68: Theft from Motor Vehicle | E68: 210622-0064 | F68: Lot 13 | G68: Active
A69: 44373 | B69: 0.084027778 | C69: 44373 | D69: Destruction/Damage/Vandalism | E69: 210626-0065 | F69: Joe Echols Hall | G69: Closed
A70: 44373 | B70: 0.084722222 | C70: 44373 | D70: Destruction/Damage/Vandalism | E70: 210626-0066 | F70: Scott Dozier | G70: Closed
A71: 44373 | B71: 0.91597222 | C71: 44373 | D71: DUI - Driving Under The Influence | E71: 210627-0067 | F71: 2700 Blk of Middletown Cres. | G71: Arrested
A72: 44377 | B72: 0.2 | C72: 44377 | D72: Damage to Property | E72: 210630-0068 | F72: 700 Ballentine Blvd | G72: Closed
A73: 44386 | B73: 0.96875 | C73: 44384 | D73: Sexual Battery | E73: 210709-0069 | F73: Gills Gym | G73: Closed
A74: 44389 | B74: 0.34027778 | C74: 44389 | D74: Damage to Property | E74: 210712-0070 | F74: Wilson Hall | G74: Unfounded
A75: 44391 | B75: 0.7375 | C75: 44391 | D75: Larceny/Theft | E75: 210715-0071 | F75: Lot #13 | G75: Active
A76: 44392 | B76: 0.99861111 | C76: 44392 | D76: Found Property | E76: 210716-0072 | F76: 900 Mapole Ave. | G76: Active
... A85: 44426 | B85: 0.68958333 | C85: 44426 | D85: Damage to Property | E85: 210818-0080 | F85: Brambleton Ctr. | G85: Active
A86: 44426 | B86: VOID | C86: 44426 | D86: VOID | E86: 210818-0081 | F86: VOID | G86: VOID
A87: 44426 | B87: 0.0125 | C87: 44426 | D87: Larceny/Theft | E87: 210818-0082 | F87: Lot 7 | G87: Active
A88: 44428 | B88: 0.67222222 | C88: 44428 | D88: Threat to harm self | E88: 210820-0083 | F88: New Residential Complex | G88: Closed
A89: 44430 | B89: 0.91319444 | C89: 44430 | D89: Drug Violation | E89: 210822-0084 | F89: Samuel Scott Hall | G89: Closed
A90: 44430 | B90: 0.93958333 | C90: 44430 | D90: Injured Person | E90: 210822-0085 | F90: Hamme Fine Arts Bldg | G90: Closed
A91: 44431 | B91: 0.77847222 | C91: 44431 | D91: Larceny/Theft | E91: 210823-0086 | F91: Greek Row | G91: Active
A92: 44431 | B92: 0.93611111 | C92: 44431 | D92: Injured Person | E92: 210823-0087 | F92: Babbette Smith South | G92: Active
A93: 44432 | B93: 0.65208333 | C93: 44432 | D93: Simple Assault | E93: 210824-0088 | F93: Bosement Building | G93: Inactive
A94: 44432 | B94: 0.82638889 | C94: 44432 | D94: Larceny/Theft | E94: 210824-0089 | F94: Joe Echols Hall | G94: Inactive
A95: 44434 | B95: 0.36875 | C95: 44434 | D95: Larceny/Theft | E95: 210826-0090 | F95: Gills Gym | G95: Active
A96: 44435 | B96: 0.088194444 | C96: 44435 | D96: Drug Violation | E96: 210827-0091 | F96: Lot 22 | G96: Administrative Sanction
A97: 44435 | B97: 0.80277778 | C97: 44435 | D97: Rape | E97: 210827-0092 | F97: Lee Smith | G97: Active
A98: 44438 | B98: 0.52638889 | C98: 44351 | D98: Murder | E98: 210830-0093 | F98: 1510 Brambleton Ave (7-11) | G98: Closed/Arrested
... A114: 44456 | B114: 0.5 | C114: 44456 | D114: Threatening Behavior | E114: 210917-0109 | F114: New Residential Complex | G114: Closed
A115: 44456 | B115: VOID | C115: 44456 | D115: VOID | E115: 210917-0110 | F115: VOID | G115: VOID
A116: 44456 | B116: 0.86527778 | C116: 44456 | D116: MVA | E116: 210917-0111 | F116: Lot 13 | G116: Closed
A117: 44457 | B117: 0.52847222 | C117: 44457 | D117: Homicide | E117: 210918-0112 | F117: 900 Madison Ave | G117: Active
A118: 44457 | B118: 0.64097222 | C118: 44457 | D118: MVA Property Damage | E118: 210918-0113 | F118: Gate 1 | G118: Closed
A119: 44458 | B119: 0.57222222 | C119: 44458 | D119: Sexual Misconduct | E119: 210919-0114 | F119: New Residential Complex | G119: Active
A120: 44459 | B120: 0.35416667 | C120: 44459 | D120: Damage to Property | E120: 210920-0115 | F120: Police Headquarters | G120: Closed
A121: 44460 | B121: 0.79652778 | C121: 44460 | D121: Larceny/Theft | E121: 210921-0116 | F121: Babbette Smith South | G121: Closed
A122: 44457 | B122: 0.43958333 | C122: 44457 | D122: All Other Offenses | E122: 210922-0117 | F122: New Residential Complex | G122: Active
A123: 44461 | B123: 0.56875 | C123: 44461 | D123: Vandalism | E123: 210923-0118 | F123: Lot 32 | G123: Active
A124: 44452 | B124: 0.98611111 | C124: 44452 | D124: All Other Offenses | E124: 210924-0119 | F124: Near Lot 28 | G124: Active
A125: 44464 | B125: 0.33472222 | C125: 44464 | D125: All Other Offenses | E125: 210925-0120 | F125: Lot 13 | G125: Closed
A126: 44466 | B126: 0.30069444 | C126: 44466 | D126: Burning or Destorying | E126: 210927-0121 | F126: Lot 28 | G126: Active
A127: 44466 | B127: 0.56736111 | C127: 44466 | D127: Drug Violation | E127: 210927-0122 | F127: Rosa Alexander | G127: Administrative Sanction
... A130: 44467 | B130: 0.71111111 | C130: 44467 | D130: Theft from Motor Vehicle | E130: 210928-0125 | F130: Lot 4 | G130: Active
A131: 44471 | B131: VOID | C131: 44471 | D131: VOID | E131: 211002-0126 | F131: VOID | G131: VOID
A132: 44471 | B132: 0.54097222 | C132: 44471 | D132: Threatening Behavior | E132: 211002-0127 | F132: Police Headquarters | G132: Administrative Sanction
A133: 44471 | B133: 0.71180556 | C133: 44471 | D133: Larceny/Theft | E133: 211002-0128 | F133: Greek Row | G133: Closed
A134: 44473 | B134: 0.52291667 | C134: 44473 | D134: Damage to Property | E134: 211004-0129 | F134: 2390 Presidential Pkwy | G134: Active
A135: 44473 | B135: 0.59513889 | C135: 44473 | D135: Damage to Property | E135: 211004-0130 | F135: Lot 14 | G135: Closed
A136: 44474 | B136: 0.84930556 | C136: 44474 | D136: Damage to Property | E136: 211005-0131 | F136: Babbette Smith South | G136: Active
A137: 44476 | B137: 0.36319444 | C137: 44476 | D137: All Other Offenses | E137: 211007-0132 | F137: Lot 6 | G137: Closed
A138: 44476 | B138: 0.53055556 | C138: 44474 | D138: Theft from Building | E138: 211007-0133 | F138: Gills Gym | G138: Closed
A139: 44476 | B139: 0.37222222 | C139: 44476 | D139: Harassment | E139: 211008-0134 | F139: Student Center | G139: Closed
A140: 44479 | B140: 0.56875 | C140: 44479 | D140: Damage to Property | E140: 211010-0135 | F140: Babbette Smith South | G140: Closed
A141: 44481 | B141: 0.5 | C141: 44481 | D141: Harassment | E141: 211013-0136 | F141: 851 Gym Rd. | G141: Closed
A142: 44482 | B142: 0.66666667 | C142: 44482 | D142: Petit Larceny | E142: 211013-0137 | F142: New Residential Complex | G142: Closed
...

Sheet 2022 Daily Log
A1: Report Date | B1: Report Time | C1: Offense Date | D1: Offense Time | E1: Offense Title | F1: Case # | G1: Location | H1: Disposition
A2: 44562 | B2: 08:00 | C2: 44562 | D2: 0.99930556 | E2: No Criminal Incidents Reported to NSUPD | F2: No Data | G2: No Data | H2: No Data
A3: 44563 | B3: 08:00 | C3: 44563 | D3: 0.99930556 | E3: No Criminal Incidents Reported to NSUPD | F3: No Data | G3: No Data | H3: No Data
A4: 44564 | B4: 08:00 | C4: 44564 | D4: 0.99930556 | E4: No Criminal Incidents Reported to NSUPD | F4: No Data | G4: No Data | H4: No Data
A5: 44565 | B5: 08:00 | C5: 44565 | D5: 0.99930556 | E5: No Criminal Incidents Reported to NSUPD | F5: No Data | G5: No Data | H5: No Data
A6: 44566 | B6: 00:26 | C6: 44565 | D6: 0.73333333 | E6: Bomb Threat | F6: 2220104-0001 | G6: 2501 Corprew Ave. | H6: Active
A7: 44567 | B7: 08:00 | C7: 44567 | D7: 0.99930556 | E7: No Criminal Incidents Reported to NSUPD | F7: No Data | G7: No Data | H7: No Data
A8: 44568 | B8: 08:00 | C8: 44568 | D8: 0.99930556 | E8: No Criminal Incidents Reported to NSUPD | F8: No Data | G8: No Data | H8: No Data
A9: 44569 | B9: 08:00 | C9: 44569 | D9: 0.99930556 | E9: No Criminal Incidents Reported to NSUPD | F9: No Data | G9: No Data | H9: No Data
A10: 44570 | B10: 08:00 | C10: 44570 | D10: 0.99930556 | E10: No Criminal Incidents Reported to NSUPD | F10: No Data | G10: No Data | H10: No Data
A11: 44571 | B11: 08:00 | C11: 44571 | D11: 0.99930556 | E11: No Criminal Incidents Reported to NSUPD | F11: No Data | G11: No Data | H11: No Data
A12: 44572 | B12: 0.51666667 | C12: 44486 | D12: 0.51666667 | E12: Sexual Assault | F12: 220111-0002 | G12: Unknown (off campus) | H12: Active
A13: 44573 | B13: 0.59652778 | C13: 44569 | D13: 0.94444444 | E13: Vandalism | F13: 220112-0003 | G13: 950 Park Ave. | H13: Closed
A14: 44573 | B14: 0.87013889 | C14: 44571 | D14: 0.86111111 | E14: Unauthorized Access or Entry | F14: 220113-0004 | G14: New Residents Hall Lot 14A | H14: Active
A15: 44574 | B15: 08:00 | C15: 44574 | D15: 0.99930556 | E15: No Criminal Incidents Reported to NSUPD | F15: No Data | G15: No Data | H15: No Data
A16: 44575 | B16: 08:00 | C16: 44575 | D16: 0.99930556 | E16: No Criminal Incidents Reported to NSUPD | F16: No Data | G16: No Data | H16: No Data
A17: 44576 | B17: 08:00 | C17: 44576 | D17: 0.99930556 | E17: No Criminal Incidents Reported to NSUPD | F17: No Data | G17: No Data | H17: No Data
A18: 44577 | B18: 08:00 | C18: 44577 | D18: 0.99930556 | E18: No Criminal Incidents Reported to NSUPD | F18: No Data | G18: No Data | H18: No Data
A19: 44578 | B19: 08:00 | C19: 44578 | D19: 0.99930556 | E19: No Criminal Incidents Reported to NSUPD | F19: No Data | G19: No Data | H19: No Data
A20: 44579 | B20: 08:00 | C20: 44579 | D20: 0.99930556 | E20: No Criminal Incidents Reported to NSUPD | F20: No Data | G20: No Data | H20: No Data
A21: 44580 | B21: 09:28 | C21: 44580 | D21: 0.39097222 | E21: Disorderly Conduct/Irrate Person | F21: 220119-0005 | G21: Lot 12 Behind Bozeman | H21: Active
A22: 44580 | B22: 0.73541667 | C22: 44580 | D22: 0.73541667 | E22: MVA/Hit and Run Property Damage | F22: 220119-0006 | G22: 599 Park Ave. | H22: Closed
A23: 44581 | B23: 08:00 | C23: 44581 | D23: 0.99930556 | E23: No Criminal Incidents Reported to NSUPD | F23: No Data | G23: No Data | H23: No Data
A24: 44582 | B24: 08:00 | C24: 44582 | D24: 0.99930556 | E24: No Criminal Incidents Reported to NSUPD | F24: No Data | G24: No Data | H24: No Data
A25: 44583 | B25: 08:00 | C25: 44583 | D25: 0.99930556 | E25: No Criminal Incidents Reported to NSUPD | F25: No Data | G25: No Data | H25: No Data
A26: 44584 | B26: 0.62361111 | C26: 44584 | D26: 0.041666667 | E26: Vandalism | F26: 220123-0007 | G26: 900 Park Ave | H26: Closed
A27: 44584 | B27: 0.62361111 | C27: 44584 | D27: 0.62152778 | E27: Threatening Behavior | F27: 220123-0008 | G27: 900 Park Ave | H27: Active
A28: 44585 | B28: 02:18 | C28: 44585 | D28: 02:00 | E28: Simple Assault | F28: 220124-0009 | G28: 2501 Corprew Ave. | H28: Active
A29: 44586 | B29: 0.65 | C29: 44585 | D29: 0.82291667 | E29: Simple Assault | F29: 220125-0010 | G29: 2601 Corprew Ave. | H29: Closed
A30: 44587 | B30: 0.74791667 | C30: 44587 | D30: 0.74305556 | E30: Larceny/Theft | F30: 220127-0011 | G30: 2501 Corprew Ave. Lot 14-A | H30: Closed
A31: 44588 | B31: 08:00 | C31: 44588 | D31: 0.99930556 | E31: No Criminal Incidents Reported to NSUPD | F31: No Data | G31: No Data | H31: No Data
A32: 44589 | B32: 08:00 | C32: 44589 | D32: 0.99930556 | E32: No Criminal Incidents Reported to NSUPD | F32: No Data | G32: No Data | H32: No Data
A33: 44590 | B33: 08:00 | C33: 44590 | D33: 0.99930556 | E33: No Criminal Incidents Reported to NSUPD | F33: No Data | G33: No Data | H33: No Data
A34: 44591 | B34: 08:00 | C34: 44591 | D34: 0.99930556 | E34: No Criminal Incidents Reported to NSUPD | F34: No Data | G34: No Data | H34: No Data
A35: 44592 | B35: 08:00 | C35: 44592 | D35: 0.99930556 | E35: No Criminal Incidents Reported to NSUPD | F35: No Data | G35: No Data | H35: No Data
A36: 44593 | B36: 08:00 | C36: 44593 | D36: 0.99930556 | E36: No Criminal Incidents Reported to NSUPD | F36: No Data | G36: No Data | H36: No data
A37: 44594 | B37: 0.4375 | C37: 44593 | D37: 0.53125 | E37: Vandalism | F37: 220202-0013 | G37: 1500 Bond Street | H37: Closed
A38: 44595 | B38: 0.66805556 | C38: 44595 | D38: 0.33333333 | E38: Physical Altercation | F38: 220203-0014 | G38: New Residents Hall | H38: Active
A39: 44596 | B39: 01:19 | C39: 44595 | D39: 0.95833333 | E39: Larceny/Theft | F39: 220204-0016 | G39: Spartan Suites - 2601 Corprew Ave | H39: Closed
A40: 44597 | B40: 08:00 | C40: 44597 | D40: 0.99930556 | E40: No Criminal Incidents Reported to NSUPD | F40: No Data | G40: No Data | H40: No Data
A41: 44598 | B41: 08:00 | C41: 44598 | D41: 0.99930556 | E41: No Criminal Incidents Reported to NSUPD | F41: No Data | G41: No Data | H41: No Data
A42: 44599 | B42: 0.98472222 | C42: 44599 | D42: 0.95138889 | E42: Simple Assault | F42: 220208-0019 | G42: New Residence Complex | H42: Closed
A43: 44600 | B43: 08:00 | C43: 44600 | D43: 0.99930556 | E43: No Criminal Incidents Reported to NSUPD | F43: No Data | G43: No Data | H43: No Data
A44: 44601 | B44: 08:00 | C44: 44601 | D44: 0.99930556 | E44: No Criminal Incidents Reported to NSUPD | F44: No Data | G44: No Data | H44: No Data
A45: 44602 | B45: 08:38 | C45: 44601 | D45: 0.35416667 | E45: Damage to Property(Gun Shots) | F45: 220210-0021 | G45: 555 Park Ave. | H45: Active
A46: 44603 | B46: 0.61944444 | C46: 44603 | D46: 0.61458333 | E46: MVA/Hit and Run Property Damage | F46: 220211-0022 | G46: Bowser Building Lot 25 | H46: Closed
A47: 44603 | B47: 0.71805556 | C47: 44603 | D47: 0.70833333 | E47: Injured Person | F47: 220211-0023 | G47: 2390 Presidential Parkway | H47: Closed
A48: 44604 | B48: 0.83194444 | C48: 44604 | D48: 0.39583333 | E48: Vandalism | F48: 220212-0024 | G48: 700 Park Ave. Lot 6 | H48: Active
A49: 44605 | B49: 08:00 | C49: 44605 | D49: 0.99930556 | E49: No Criminal Incidents Reported to NSUPD | F49: No Data | G49: No Data | H49: No Data
A50: 44606 | B50: 0.73402778 | C50: 44604 | D50: 0.85416667 | E50: Threatening Behavior | F50: 220214-0025 | G50: 2601 Corprew Ave. | H50: Active
A51: 44606 | B51: 0.64236111 | C51: 44598 | D51: 0.83333333 | E51: Other Offenses | F51: 220214-0026 | G51: Babette Smith South-900 Park | H51: Active
A52: 44607 | B52: 0.875 | C52: 44605 | D52: 0.052083333 | E52: Sexual Battery | F52: 220215-0027 | G52: (Unknown) Off Campus | H52: Active
A53: 44608 | B53: 0.96458333 | C53: 44608 | D53: 0.87986111 | E53: Suicide Attempt | F53: 220216-0028 | G53: 900 Park Ave. (Babette Smith | H53: Closed
A54: 44608 | B54: 0.97708333 | C54: 44608 | D54: 0.97569444 | E54: Public Intox/Dis. Behavior | F54: 220216-0029 | G54: 2601 Corprew Ave. | H54: Closed
A55: 44609 | B55: 0.6375 | C55: 44609 | D55: 0.6375 | E55: Burglary | F55: 220217-0030 | G55: 2601 Corprew Ave. | H55: Closed Exception
A56: 44610 | B56: 0.45416667 | C56: 44610 | D56: 0.45138889 | E56: MVA Property Damage | F56: 220218-0031 | G56: Lot 123 Spartan Suites | H56: Closed
A57: 44610 | B57: 0.52361111 | C57: 44610 | D57: 0.5 | E57: Physical Altercation | F57: 220218-0032 | G57: New Residential Complex | H57: Active
A58: 44611 | B58: 08:00 | C58: 44611 | D58: 0.99930556 | E58: No Criminal Incidents Reported to NSUPD | F58: No Data | G58: No Data | H58: No Data
A59: 44612 | B59: 08:00 | C59: 44612 | D59: 0.99930556 | E59: No Criminal Incidents Reported to NSUPD | F59: No Data | G59: No Data | H59: No Data
A60: 44613 | B60: 08:00 | C60: 44613 | D60: 0.99930556 | E60: No Criminal Incidents Reported to NSUPD | F60: No Data | G60: No Data | H60: No Data
A61: 44614 | B61: 08:00 | C61: 44614 | D61: 0.99930556 | E61: No Criminal Incidents Reported to NSUPD | F61: No Data | G61: No Data | H61: No Data
A62: 44615 | B62: 0.67986111 | C62: 44614 | D62: 0.45833333 | E62: MVA Hit/Run Property Damage | F62: 220223-0034 | G62: 901 Marshall Ave. | H62: Active
A63: 44616 | B63: 0.64027778 | C63: 44602 | D63: 0.64027778 | E63: Assault | F63: 220224-0035 | G63: 2350 Presidential Parkway | H63: Closed
A64: 44617 | B64: 0.52083333 | C64: 44617 | D64: 0.37291667 | E64: Bomb Threat | F64: 220225-0036 | G64: 2501 Corprew Ave. | H64: Active
A65: 44618 | B65: 02:04 | C65: 44618 | D65: 0.083333333 | E65: Fire | F65: 220226-0039 | G65: 850 Park Ave. | H65: Closed
A66: 44619 | B66: 08:00 | C66: 44619 | D66: 0.99930556 | E66: No Criminal Incidents Reported to NSUPD | F66: No Data | G66: No Data | H66: No Data
A67: 44620 | B67: 0.62638889 | C67: 44620 | D67: 0.375 | E67: Damage to Propety(state/property) | F67: 220228-0041 | G67: Lot 32/Marie V. McDemmond | H67: Active
A68: 44621 | B68: 08:00 | C68: 44621 | D68: 0.99930556 | E68: No Criminal Incidents Reported to NSUPD | F68: No Data | G68: No Data | H68: No Data
A69: 44622 | B69: 08:31 | C69: 44622 | D69: 0.35069444 | E69: Injured Person | F69: 220302-0042 | G69: 2401 Curprew Ave.(Brown Hall | H69: Closed
A70: 44622 | B70: 0.84722222 | C70: 44622 | D70: 0.84722222 | E70: MVA Hit/Run Property Damage | F70: 220302-0043 | G70: Lot 7 East Dorm | H70: Active
A71: 44622 | B71: 0.93125 | C71: 44622 | D71: 0.83333333 | E71: Threatening Behavior | F71: 220303-0044 | G71: 900 Park Ave (Babett Smith North | H71: Closed
A72: 44623 | B72: 0.46180556 | C72: 44609 | D72: 0.66666667 | E72: Vandalism | F72: 220303-0045 | G72: Lot 8 Joe Echols | H72: Closed
A73: 44624 | B73: 08:00 | C73: 44624 | D73: 0.99930556 | E73: No Criminal Incidents Reported to NSUPD | F73: No Data | G73: No Data | H73: No Data
A74: 44625 | B74: 08:00 | C74: 44625 | D74: 0.99930556 | E74: No Criminal Incidents Reported to NSUPD | F74: No Data | G74: No Data | H74: No Data
A75: 44626 | B75: 08:00 | C75: 44626 | D75: 0.99930556 | E75: No Criminal Incidents Reported to NSUPD | F75: No Data | G75: No Data | H75: No Data
A76: 44627 | B76: 0.45069444 | C76: 44624 | D76: 0.45069444 | E76: Threatening Behavior | F76: 220307-0046 | G76: 2761 Middle Town Crescent | H76: Closed
A77: 44627 | B77: 0.58333333 | C77: 44627 | D77: 0.55555556 | E77: Assault | F77: 220307-0047 | G77: 840 Gym Rd. Wood Science CMR) | H77: Closed
A78: 44628 | B78: 0.99722222 | C78: 44628 | D78: 0.99722222 | E78: Intimidating Behavior | F78: 220309-0049 | G78: West Café-2151 Maude B. Davis | H78: Closed
A79: 44629 | B79: 0.62847222 | C79: 44628 | D79: 0.67777778 | E79: Vandalism | F79: 220309-0050 | G79: Spartan Suites Lot 13 | H79: Active
A80: 44630 | B80: 08:00 | C80: 44630 | D80: 0.99930556 | E80: No Criminal Incidents Reported to NSUPD | F80: No Data | G80: No Data | H80: No data
A81: 44631 | B81: 08:00 | C81: 44631 | D81: 0.99930556 | E81: No Criminal Incidents Reported to NSUPD | F81: No Data | G81: No Data | H81: No data
A82: 44632 | B82: 08:00 | C82: 44632 | D82: 0.99930556 | E82: No Criminal Incidents Reported to NSUPD | F82: No Data | G82: No Data | H82: No data
A83: 44633 | B83: 08:00 | C83: 44633 | D83: 0.99930556 | E83: No Criminal Incidents Reported to NSUPD | F83: No Data | G83: No Data | H83: No data
A84: 44634 | B84: 08:00 | C84: 44634 | D84: 0.99930556 | E84: No Criminal Incidents Reported to NSUPD | F84: No Data | G84: No Data | H84: No data
A85: 44635 | B85: 08:00 | C85: 44635 | D85: 0.99930556 | E85: No Criminal Incidents Reported to NSUPD | F85: No Data | G85: No Data | H85: No data
A86: 44636 | B86: 08:00 | C86: 44636 | D86: 0.99930556 | E86: No Criminal Incidents Reported to NSUPD | F86: No Data | G86: No Data | H86: No Data
A87: 44637 | B87: 08:00 | C87: 44637 | D87: 0.99930556 | E87: No Criminal Incidents Reported to NSUPD | F87: No Data | G87: No Data | H87: No Data
A88: 44638 | B88: 0.94236111 | C88: 44638 | D88: 0.94236111 | E88: Larceny/Theft | F88: 220318-0053 | G88: 2390 Presidential Parkway | H88: Closed
A89: 44639 | B89: 08:00 | C89: 44639 | D89: 0.99930556 | E89: No Criminal Incidents Reported to NSUPD | F89: No Data | G89: No Data | H89: No Data
A90: 44640 | B90: 08:00 | C90: 44640 | D90: 0.99930556 | E90: No Criminal Incidents Reported to NSUPD | F90: No Data | G90: No Data | H90: No Data
A91: 44641 | B91: 0.42361111 | C91: 44640 | D91: 0.81944444 | E91: MVA/Property Damage | F91: 220321-0055 | G91: 2506 Corprew Ave. | H91: Closed
A92: 44642 | B92: 0.51805556 | C92: 44642 | D92: 0.50902778 | E92: Assault | F92: 220332-0057 | G92: Lot 6 Baseball Complex-0 | H92: Closed
A93: 44642 | B93: 0.85347222 | C93: 44642 | D93: 0.85347222 | E93: Intimididating Behavior | F93: 220322-0058 | G93: 2201 Maude B Davis Dr. | H93: Closed
A94: 44643 | B94: 08:00 | C94: 44643 | D94: 0.99930556 | E94: No Criminal Incidents Reported to NSUPD | F94: No Data | G94: No Data | H94: No Data | R94: ;59
A95: 44644 | B95: 0.96875 | C95: 44644 | D95: 23:15 | E95: Fire | F95: 220325-0059 | G95: Babette Smith North-900 Park Ave. | H95: Closed
A96: 44645 | B96: 0.58194444 | C96: 44645 | D96: 0.45833333 | E96: Hit And Run-Property Damage | F96: 220325-0060 | G96: Lot 22 | H96: Closed
A97: 44646 | B97: 08:00 | C97: 44646 | D97: 0.99930556 | E97: No Criminal Incidents Reported to NSUPD | F97: No Data | G97: No Data | H97: No Data
A98: 44647 | B98: 08:49 | C98: 44646 | D98: 0.9375 | E98: Assault & Battery | F98: 220327-0062 | G98: Spartan Suites | H98: Closed
A99: 44647 | B99: 0.93263889 | C99: 44647 | D99: 0.43055556 | E99: MVA Hit/Run Property Damage | F99: 220327-0063 | G99: Lot 13 | H99: Active
A100: 44648 | B100: 08:00 | C100: 44648 | D100: 0.99930556 | E100: No Criminal Incidents Reported to NSUPD | F100: No Data | G100: No Data | H100: No Data
...

Sheet 2023 Daily Crime Log
A1: Report Date | B1: Report Time | C1: Offense Date | D1: Offense Time | E1: Offense Title | F1: Case # | G1: Location | H1: Disposition
A2: 44927 | B2: 08:00 | C2: 44926 | D2: 0.99930556 | E2: No Criminal Incidents Reported to NSUPD | F2: No Data | G2: No Data | H2: No Data
A3: 44928 | B3: 08:00 | C3: 44927 | D3: 0.99930556 | E3: No Criminal Incidents Reported to NSUPD | F3: No Data | G3: No Data | H3: No Data
A4: 44928 | B4: 00:24 | C4: 44928 | D4: 0.016666667 | E4: Driving Under Influence (DUI) | F4: 230102-0001 | G4: Ballentine Blvd | H4: Active
A5: 44930 | B5: 08:00 | C5: 44929 | D5: 0.99930556 | E5: No Criminal Incidents Reported to NSUPD | F5: No Data | G5: No Data | H5: No Data
A6: 44930 | B6: 0.6875 | C6: 44930 | D6: 0.47916667 | E6: Sexual Assault | F6: 230104-0002 | G6: Nursing Ed. Bldg | H6: Active
A7: 44931 | B7: 0.69444444 | C7: 44931 | D7: 0.66666667 | E7: Vandalism | F7: 230105-0003 | G7: Babbette Smith North | H7: Closed
A8: 44933 | B8: 08:00 | C8: 44567 | D8: 0.99930556 | E8: No Criminal Incidents Reported to NSUPD | F8: No Data | G8: No Data | H8: No Data
A9: 44934 | B9: 08:00 | C9: 44568 | D9: 0.99930556 | E9: No Criminal Incidents Reported to NSUPD | F9: No Data | G9: No Data | H9: No Data
A10: 44935 | B10: 08:00 | C10: 44569 | D10: 0.99930556 | E10: No Criminal Incidents Reported to NSUPD | F10: No Data | G10: No Data | H10: No Data
A11: 44936 | B11: 08:00 | C11: 44935 | D11: 0.99930556 | E11: No Criminal Incidents Reported to NSUPD | F11: No Data | G11: No Data | H11: No Data
A12: 44937 | B12: 08:00 | C12: 44936 | D12: 0.99930556 | E12: No Criminal Incidents Reported to NSUPD | F12: No Data | G12: No Data | H12: No Data
A13: 44938 | B13: 08:00 | C13: 44937 | D13: 0.99930556 | E13: No Criminal Incidents Reported to NSUPD | F13: No Data | G13: No Data | H13: No Data
A14: 44939 | B14: 08:00 | C14: 44938 | D14: 0.99930556 | E14: No Criminal Incidents Reported to NSUPD | F14: No Data | G14: No Data | H14: No Data
A15: 44940 | B15: 08:00 | C15: 44939 | D15: 0.99930556 | E15: No Criminal Incidents Reported to NSUPD | F15: No Data | G15: No Data | H15: No Data
A16: 44940 | B16: 0.77777778 | C16: 44940 | D16: 0.5625 | E16: Destruction /Damage/Vandalism of Property | F16: 230114-0005 | G16: 2500 Corprew Ave | H16: Closed
A17: 44940 | B17: 0.77430556 | C17: 44940 | D17: 0.77083333 | E17: Drugs Violation | F17: 230114-0006 | G17: Joe Echols Hall | H17: Closed
A18: 44942 | B18: 08:00 | C18: 44941 | D18: 0.99930556 | E18: No Criminal Incidents Reported to NSUPD | F18: No Data | G18: No Data | H18: No Data
A19: 44942 | B19: 02:46 | C19: 44942 | D19: 02:45 | E19: Hit & Run | F19: 230116-0007 | G19: Lot 13 | H19: Closed
A20: 44943 | B20: 0.96458333 | C20: 44943 | D20: 0.47916667 | E20: Threat To Do Bodily Harm | F20: 230117-0008 | G20: Charles Smith | H20: Closed
A21: 44944 | B21: 20:58 | C21: 44944 | D21: 08:00 | E21: Fraud | F21: 230118-0009 | G21: Police Hdqt | H21: Closed
A22: 44946 | B22: 08:00 | C22: 44945 | D22: 0.99930556 | E22: No Criminal Incidents Reported to NSUPD | F22: No Data | G22: No Data | H22: No Data
A23: 44946 | B23: 18:59 | C23: 44946 | D23: 0.79097222 | E23: Warrant | F23: 230121-0012 | G23: Gate 8 | H23: Active
A24: 44948 | B24: 08:00 | C24: 44947 | D24: 0.99930556 | E24: No Criminal Incidents Reported to NSUPD | F24: No Data | G24: No Data | H24: No Data
A25: 44949 | B25: 08:00 | C25: 44948 | D25: 0.99930556 | E25: No Criminal Incidents Reported to NSUPD | F25: No Data | G25: No Data | H25: No Data
A26: 44949 | B26: 0.54444444 | C26: 44949 | D26: 0.54444444 | E26: Drugs Violation | F26: 230123-0014 | G26: Lot 13 | H26: Closed
A27: 44950 | B27: 0.76666667 | C27: 44950 | D27: 0.74305556 | E27: All Other Larceny | F27: 230124-0016 | G27: Lot 4 | H27: Closed
A28: 44952 | B28: 08:00 | C28: 44951 | D28: 0.99930556 | E28: No Criminal Incidents Reported to NSUPD | F28: No Data | G28: No Data | H28: No Data
A29: 44952 | B29: 0.52847222 | C29: 44952 | D29: 0.52847222 | E29: MVA Hit Pedestrian | F29: 230126-0017 | G29: Joe Echols Hall | H29: Active
A30: 44952 | B30: 0.55486111 | C30: 44938 | D30: 0.98055556 | E30: Fraud | F30: 230126-0018 | G30: Samuel Scott | H30: Active
A31: 44953 | B31: 0.62152778 | C31: 44953 | D31: 0.62013889 | E31: Drugs Violation | F31: 230127-0019 | G31: Spartan Park | H31: Closed
A32: 44954 | B32: 0.51944444 | C32: 44953 | D32: 0.57291667 | E32: Larceny | F32: 230128-0020 | G32: Babbette Smith South | H32: Closed
A33: 44955 | B33: 08:00 | C33: 44954 | D33: 0.99930556 | E33: No Criminal Incidents Reported to NSUPD | F33: No Data | G33: No Data | H33: No Data
A34: 44956 | B34: 0.63541667 | C34: 44956 | D34: 0.61458333 | E34: Shooting In Unoccupied Dwelling | F34: 230130-0021 | G34: 2426 Corprew Ave (Alumni House) | H34: Closed
A35: 44957 | B35: 0.62361111 | C35: 44943 | D35: 08:30 | E35: Petit Larceny | F35: 230131-0022 | G35: Scott/Dozier Hall | H35: Active
A36: 44957 | B36: 0.81944444 | C36: 44957 | D36: 0.82638889 | E36: Stolen Vehicle | F36: 230131-0023 | G36: 900 Marathon Ave | H36: Active
A37: 44958 | B37: 03:48 | C37: 44958 | D37: 03:48 | E37: Trespass Violation | F37: 230201-0024 | G37: Babbette Smith South | H37: Closed/Arrested
A38: 44958 | B38: 13:30 | C38: 44958 | D38: 09:00 | E38: Accident | F38: 230201-0025 | G38: 1159 Lance Rd. | H38: Closed
A39: 44958 | B39: 0.41666667 | C39: 44958 | D39: 09:55 | E39: Burglary | F39: 230201-0027 | G39: 2612 Corprew Ave. | H39: Closed
A40: 44960 | B40: 08:00 | C40: 44959 | D40: 0.99930556 | E40: No Criminal Incidents Reported to NSUPD | F40: No Data | G40: No Data | H40: No Data
A41: 44961 | B41: 19:05 | C41: 44954 | D41: 09:00 | E41: Larceny/Theft | F41: 230204-0028 | G41: Spartan Station The Grill | H41: Active
A42: 44962 | B42: 08:00 | C42: 44961 | D42: 0.99930556 | E42: No Criminal Incidents Reported to NSUPD | F42: No Data | G42: No Data | H42: No Data
A43: 44963 | B43: 08:00 | C43: 44962 | D43: 0.99930556 | E43: No Criminal Incidents Reported to NSUPD | F43: No Data | G43: No Data | H43: No Data
A44: 44963 | B44: 0.5 | C44: 44961 | D44: 0.60416667 | E44: Fraud | F44: 230206-0029 | G44: Lot 26 | H44: Closed
A45: 44963 | B45: 0.91111111 | C45: 44963 | D45: 0.91111111 | E45: Public Intoxication | F45: 230206-0030 | G45: Samuel Scott | H45: Closed/Arrested
A46: 44964 | B46: 0.44791667 | C46: 44964 | D46: 09:44 | E46: Threatening Behavior | F46: 230207-0031 | G46: Lot 14 | H46: Closed
A47: 44966 | B47: 08:00 | C47: 44965 | D47: 0.99930556 | E47: No Criminal Incidents Reported to NSUPD | F47: No Data | G47: No Data | H47: No Data
A48: 44966 | B48: 0.93819444 | C48: 44966 | D48: 0.93819444 | E48: Reckless Driving | F48: 230210-0032 | G48: Lot 13 | H48: Closed/Arrested
A49: 44967 | B49: 0.5 | C49: 44961 | D49: 0.41666667 | E49: All Other Larceny | F49: 230210-0033 | G49: Samuel Scott | H49: Closed
A50: 44967 | B50: 0.925 | C50: 44967 | D50: 0.91944444 | E50: Drugs Violation | F50: 230210-0035 | G50: Samuel Scott | H50: Closed
A51: 44968 | B51: 02:22 | C51: 44968 | D51: 02:22 | E51: Assault & Battery (Simple) | F51: 230211-0036 | G51: Lee Smith | H51: Closed
A52: 44968 | B52: 03:14 | C52: 44968 | D52: 03:14 | E52: Stolen Firearm | F52: 230211-0037 | G52: Lot 29 | H52: Active
A53: 44969 | B53: 08:00 | C53: 44969 | D53: 0.99930556 | E53: No Criminal Incidents Reported to NSUPD | F53: No Data | G53: No Data | H53: No Data
A54: 44970 | B54: 01:39 | C54: 44969 | D54: 0.95833333 | E54: Assault & Battery (Simple) | F54: 230213-0038 | G54: Spartan Suites | H54: Closed/Arrested
A55: 44971 | B55: 08:00 | C55: 44970 | D55: 0.99930556 | E55: No Criminal Incidents Reported to NSUPD | F55: No Data | G55: No Data | H55: No Data
A56: 44972 | B56: 0.87708333 | C56: 44972 | D56: 0.87708333 | E56: Drugs Violation | F56: 230215-0040 | G56: Lot 23 | H56: Closed
A57: 44973 | B57: 04:30 | C57: 44972 | D57: 0.92708333 | E57: Aggravated Assault | F57: 230216-0042 | G57: Babbette Smith South | H57: Closed/Arrested
A58: 44973 | B58: 0.85416667 | C58: 44973 | D58: 0.85416667 | E58: Drugs Violation | F58: 230216-0043 | G58: Lot 14 | H58: Closed
A59: 44975 | B59: 08:00 | C59: 44974 | D59: 0.99930556 | E59: No Criminal Incidents Reported to NSUPD | F59: No Data | G59: No Data | H59: No Data
A60: 44976 | B60: 08:00 | C60: 44975 | D60: 0.99930556 | E60: No Criminal Incidents Reported to NSUPD | F60: No Data | G60: No Data | H60: No Data
A61: 44977 | B61: 08:00 | C61: 44976 | D61: 0.99930556 | E61: No Criminal Incidents Reported to NSUPD | F61: No Data | G61: No Data | H61: No Data
A62: 44978 | B62: 00:25 | C62: 44977 | D62: 0.94791667 | E62: Threats Over The Airways | F62: 230221-0044 | G62: Joe Echols Hall | H62: Closed
A63: 44979 | B63: 08:00 | C63: 44978 | D63: 0.99930556 | E63: No Criminal Incidents Reported to NSUPD | F63: No Data | G63: No Data | H63: No Data
A64: 44980 | B64: 08:00 | C64: 44979 | D64: 0.99930556 | E64: No Criminal Incidents Reported to NSUPD | F64: No Data | G64: No Data | H64: No Data
A65: 44981 | B65: 08:00 | C65: 44980 | D65: 0.99930556 | E65: No Criminal Incidents Reported to NSUPD | F65: No Data | G65: No Data | H65: No Data
A66: 44981 | B66: 0.52083333 | C66: 44981 | D66: 0.42013889 | E66: Destruction /Damage/Vandalism of Property | F66: 230224-0048 | G66: Softball Field | H66: Closed
A67: 44981 | B67: 0.66666667 | C67: 44981 | D67: 0.66666667 | E67: Drugs Violation | F67: 230224-0049 | G67: Lot 14 | H67: Closed
A68: 44982 | B68: 0.92222222 | C68: 44982 | D68: 0.92222222 | E68: Simple Assault | F68: 230225-0051 | G68: New Residential Complex | H68: Closed
A69: 44984 | B69: 08:00 | C69: 44983 | D69: 0.99930556 | E69: No Criminal Incidents Reported to NSUPD | F69: No Data | G69: No Data | H69: No Data
A70: 44984 | B70: 0.60902778 | C70: 44980 | D70: 0.5 | E70: Harassment | F70: 230227-0053 | G70: Dick Price Stadium | H70: Active
A71: 44985 | B71: 08:00 | C71: 44984 | D71: 0.99930556 | E71: No Criminal Incidents Reported to NSUPD | F71: No Data | G71: No Data | H71: No Data
A72: 44986 | B72: 0.85 | C72: 44986 | D72: 0.59375 | E72: Threatening Behavior | F72: 230301-0054 | G72: Student Services | H72: Closed
A73: 44987 | B73: 0.70486111 | C73: 44987 | D73: 0.70486111 | E73: Destruction /Damage/Vandalism of Property | F73: 230302-0055 | G73: 919 Madison Ave | H73: Closed
A74: 44988 | B74: 0.64861111 | C74: 44988 | D74: 0.64861111 | E74: Dating Violence | F74: 230303-0056 | G74: Lot 13 | H74: Active
A75: 44989 | B75: 0.61736111 | C75: 44989 | D75: 0.54513889 | E75: Damage to Property | F75: 230204-0057 | G75: Lot 6 | H75: Closed
A76: 44989 | B76: 0.875 | C76: 44989 | D76: 0.82638889 | E76: Assault & Battery (Simple) | F76: 230304-0058 | G76: Gills Gym | H76: Active
A77: 44990 | B77: 00:27 | C77: 44989 | D77: 0.95138889 | E77: Public Intoxication | F77: 230305-0059 | G77: Joe Echols Hall | H77: Closed/Arrested
A78: 44991 | B78: 08:00 | C78: 44991 | D78: 0.99305556 | E78: No Criminal Incidents Reported to NSUPD | F78: No Data | G78: No Data | H78: No Data
A79: 44992 | B79: 17:19 | C79: 44992 | D79: 0.71875 | E79: Larceny/Theft | F79: 230307-0062 | G79: Samuel Scott | H79: Closed
A80: 44992 | B80: 0.78333333 | C80: 44992 | D80: 0.78333333 | E80: Simple Assault | F80: 230307-0063 | G80: Spartan Suites | H80: Closed
A81: 44994 | B81: 08:00 | C81: 44993 | D81: 0.99930556 | E81: No Criminal Incidents Reported to NSUPD | F81: No Data | G81: No Data | H81: No Data
A82: 44995 | B82: 08:00 | C82: 44994 | D82: 0.99930556 | E82: No Criminal Incidents Reported to NSUPD | F82: No Data | G82: No Data | H82: No Data
A83: 44995 | B83: 0.86458333 | C83: 44995 | D83: 0.85763889 | E83: Drugs Violation | F83: 230310-0064 | G83: Samuel Scott | H83: Closed
A84: 44995 | B84: 0.83125 | C84: 44995 | D84: 0.83125 | E84: Weapon Violation | F84: 230311-0065 | G84: Lot 14 | H84: Closed
A85: 44990 | B85: 0.64583333 | C85: 44990 | D85: 0.63888889 | E85: Dating Violence | F85: 230314-0066 | G85: 700 Park Ave. | H85: Active
A86: 44997 | B86: 08:00 | C86: 44996 | D86: 0.99930556 | E86: No Criminal Incidents Reported to NSUPD | F86: No Data | G86: No Data | H86: No Data
A87: 44998 | B87: 08:00 | C87: 44997 | D87: 0.99930556 | E87: No Criminal Incidents Reported to NSUPD | F87: No Data | G87: No Data | H87: No Data
A88: 44999 | B88: 08:00 | C88: 44998 | D88: 0.99930556 | E88: No Criminal Incidents Reported to NSUPD | F88: No Data | G88: No Data | H88: No Data
A89: 45000 | B89: 08:00 | C89: 44999 | D89: 0.99930556 | E89: No Criminal Incidents Reported to NSUPD | F89: No Data | G89: No Data | H89: No Data
A90: 45001 | B90: 08:00 | C90: 45000 | D90: 0.99930556 | E90: No Criminal Incidents Reported to NSUPD | F90: No Data | G90: No Data | H90: No Data
A91: 45002 | B91: 08:00 | C91: 45001 | D91: 0.99930556 | E91: No Criminal Incidents Reported to NSUPD | F91: No Data | G91: No Data | H91: No Data
A92: 45003 | B92: 08:00 | C92: 45002 | D92: 0.99930556 | E92: No Criminal Incidents Reported to NSUPD | F92: No Data | G92: No Data | H92: No Data
A93: 45004 | B93: 08:00 | C93: 45003 | D93: 0.99930556 | E93: No Criminal Incidents Reported to NSUPD | F93: No Data | G93: No Data | H93: No Data
A94: 45005 | B94: 08:00 | C94: 45004 | D94: 0.99930556 | E94: No Criminal Incidents Reported to NSUPD | F94: No Data | G94: No Data | H94: No Data
A95: 45006 | B95: 08:00 | C95: 45005 | D95: 0.99930556 | E95: No Criminal Incidents Reported to NSUPD | F95: No Data | G95: No Data | H95: No Data
A96: 45006 | B96: 0.52569444 | C96: 45006 | D96: 0.52569444 | E96: DUI | F96: 230321-0067 | G96: 1510 Brambleton Ave | H96: Closed/Arrested
A97: 45006 | B97: 0.77083333 | C97: 44991 | D97: 08:00 | E97: Theft of Motor Vehicle Part | F97: 230321-0068 | G97: Lot 13 | H97: Closed
A98: 45007 | B98: 0.52222222 | C98: 45003 | D98: 0.75 | E98: Simple Assault | F98: 230322-0069 | G98: NSU Charter Bus | H98: Inactive
A99: 45008 | B99: 0.52152778 | C99: 45008 | D99: 0.52152778 | E99: Threatening Behavior | F99: 230323-0070 | G99: 2500 Corprew Ave | H99: Closed
A100: 45009 | B100: 0.80208333 | C100: 45009 | D100: 0.70763889 | E100: Drugs Violation | F100: 230324-0071 | G100: 900 Majestic Ave | H100: Closed
...

Sheet 2024 Daily Crime Log
A1: Report Date | B1: Report Time | C1: Offense Date | D1: Offense Time | E1: Offense Title | F1: Case # | G1: Location | H1: Disposition
A2: 45292 | B2: 08:00 | C2: 45292 | D2: 0.99930556 | E2: ='2023 Daily Crime Log'!E8 -> No Criminal Incidents Reported to NSUPD | F2: ='2023 Daily Crime Log'!F8 -> No Data | G2: ='2023 Daily Crime Log'!G8 -> No Data | H2: ='2023 Daily Crime Log'!H8 -> No Data
A3: 45293 | B3: 08:00 | C3: 45293 | D3: 0.99930556 | E3: ='2023 Daily Crime Log'!E9 -> No Criminal Incidents Reported to NSUPD | F3: ='2023 Daily Crime Log'!F9 -> No Data | G3: ='2023 Daily Crime Log'!G9 -> No Data | H3: ='2023 Daily Crime Log'!H9 -> No Data
A4: 45294 | B4: 08:00 | C4: 45294 | D4: 0.99930556 | E4: ='2023 Daily Crime Log'!E10 -> No Criminal Incidents Reported to NSUPD | F4: ='2023 Daily Crime Log'!F10 -> No Data | G4: ='2023 Daily Crime Log'!G10 -> No Data | H4: ='2023 Daily Crime Log'!H10 -> No Data
A5: 45295 | B5: 08:00 | C5: 45295 | D5: 0.99930556 | E5: No Criminal Incidents Reported to NSUPD | F5: ='2023 Daily Crime Log'!F11 -> No Data | G5: ='2023 Daily Crime Log'!G11 -> No Data | H5: ='2023 Daily Crime Log'!H11 -> No Data
A6: 45296 | B6: 0.95694444 | C6: 45296 | D6: 0.95694444 | E6: DUI | F6: 240106-0002 | G6: 1000 Blk Park Ave. | H6: Arrested
A7: 45298 | B7: 0.91944444 | C7: 45297 | D7: 0.75 | E7: Drug Violation | F7: 240107-0004 | G7: Spartan Suites | H7: Unfounded
A8: 45298 | B8: 08:00 | C8: 45298 | D8: 0.99930556 | E8: ='2023 Daily Crime Log'!E14 -> No Criminal Incidents Reported to NSUPD | F8: ='2023 Daily Crime Log'!F14 -> No Data | G8: ='2023 Daily Crime Log'!G14 -> No Data | H8: ='2023 Daily Crime Log'!H14 -> No Data
A9: 45299 | B9: 05:53 | C9: 45299 | D9: 05:23 | E9: Damage to Property (State/Personal) | F9: 240108-0005 | G9: 800 Blk of Ballentine Blvd | H9: Closed
A10: 45299 | B10: 0.87430556 | C10: 45299 | D10: 0.87430556 | E10: DUI | F10: 240109-0006 | G10: 700 Park Ave | H10: Arrested
A11: 44935 | B11: 08:15 | C11: 45299 | D11: 0.90277778 | E11: Vandalism | F11: 240109-0007 | G11: Lot 13 | H11: Active
A12: 45300 | B12: 08:34 | C12: 45299 | D12: 0.96527778 | E12: Vandalism | F12: 240109-0010 | G12: Lot 13 | H12: Active
A13: 45301 | B13: 08:00 | C13: 45301 | D13: 0.99930556 | E13: No Criminal Incidents Reported to NSUPD | F13: ='2023 Daily Crime Log'!F18 -> No Data | G13: ='2023 Daily Crime Log'!G18 -> No Data | H13: ='2023 Daily Crime Log'!H18 -> No Data
A14: 45302 | B14: 08:00 | C14: 45302 | D14: 0.99930556 | E14: No Criminal Incidents Reported to NSUPD | F14: No Data | G14: No Data | H14: No Data
A15: 45303 | B15: 08:34 | C15: 45299 | D15: 0.91666667 | E15: Vandalism | F15: 240109-0011 | G15: Lot 13 | H15: Active
A16: 45303 | B16: 08:34 | C16: 45299 | D16: 0.90277778 | E16: Vandalism | F16: 240109-0012 | G16: Lot 13 | H16: Active
A17: 45303 | B17: 0.54513889 | C17: 45303 | D17: 0.54375 | E17: Weapon Violation | F17: 240113-0014 | G17: New Residential Complex | H17: Closed
A18: 45304 | B18: 0.99027778 | C18: 45304 | D18: 0.99027778 | E18: DUI | F18: 240114-0015 | G18: 1400 Brambleton Ave | H18: Arrested
A19: 45305 | B19: 08:00 | C19: 45305 | D19: 0.99930556 | E19: No Criminal Incidents Reported to NSUPD | F19: ='2023 Daily Crime Log'!F25 -> No Data | G19: ='2023 Daily Crime Log'!G25 -> No Data | H19: ='2023 Daily Crime Log'!H25 -> No Data
A20: 45306 | B20: 08:00 | C20: 45306 | D20: 0.99930556 | E20: No Criminal Incidents Reported to NSUPD | F20: No Data | G20: No Data | H20: No Data
A21: 45308 | B21: 01:40 | C21: 45307 | D21: 0.47916667 | E21: Simple Assault (Dating Violence) | F21: 240117-0018 | G21: Rosa Alexander | H21: Active
A22: 45308 | B22: 08:00 | C22: 45308 | D22: 0.99930556 | E22: No Criminal Incidents Reported to NSUPD | F22: No Data | G22: No Data | H22: No Data
A23: 44944 | B23: 08:13 | C23: 44944 | D23: 08:13 | E23: Damage to Property (State/Personal) | F23: 240118-0020 | G23: Library | H23: Closed
A24: 45310 | B24: 08:00 | C24: 45310 | D24: 0.99930556 | E24: No Criminal Incidents Reported to NSUPD | F24: No Data | G24: No Data | H24: No Data
A25: 45311 | B25: 08:00 | C25: 45311 | D25: 0.99930556 | E25: No Criminal Incidents Reported to NSUPD | F25: No Data | G25: No Data | H25: No Data
A26: 45312 | B26: 08:00 | C26: 45312 | D26: 0.99930556 | E26: No Criminal Incidents Reported to NSUPD | F26: No Data | G26: No Data | H26: No Data
A27: 45313 | B27: 0.83958333 | C27: 45313 | D27: 0.83958333 | E27: Fire Structure w/Damage | F27: 240122-0021 | G27: Spartan Suites | H27: Closed
A28: 45314 | B28: 08:00 | C28: 45314 | D28: 0.99930556 | E28: No Criminal Incidents Reported to NSUPD | F28: No Data | G28: No Data | H28: No Data
A29: 45315 | B29: 0.425 | C29: 45314 | D29: 0.79166667 | E29: Petit Larceny (Credit Card Fraud) | F29: 240124-0025 | G29: No Data | H29: No Data
A30: 45316 | B30: 08:00 | C30: 45316 | D30: 0.99930556 | E30: No Criminal Incidents Reported to NSUPD | F30: No Data | G30: No Data | H30: No Data
A31: 45317 | B31: 0.90347222 | C31: 45317 | D31: 0.90347222 | E31: Theft from Motor Vehicle | F31: 240126-0028 | G31: 700 Park Ave | H31: Closed
A32: 45317 | B32: 0.9875 | C32: 45317 | D32: 0.78125 | E32: Larceny/Theft | F32: 240126-0029 | G32: Student Center | H32: Active
A33: 45318 | B33: 0.51041667 | C33: 45318 | D33: 0.5 | E33: Damage to Property (State/Personal) | F33: 240127-0030 | G33: Nursing Edu. Bldg. | H33: Closed
A34: 45318 | B34: 0.5125 | C34: 45318 | D34: 0.5 | E34: Simple Assault | F34: 240127-0031 | G34: Babbette Smith North | H34: Closed
A35: 45319 | B35: 0.69930556 | C35: 45319 | D35: 0.69930556 | E35: Drug Violation | F35: 240128-0032 | G35: New Residential Complex | H35: Closed
A36: 45320 | B36: 08:00 | C36: 45320 | D36: 0.99930556 | E36: No Criminal Incidents Reported to NSUPD | F36: No Data | G36: No Data | H36: No Data
A37: 45321 | B37: 08:00 | C37: 45321 | D37: 0.99930556 | E37: No Criminal Incidents Reported to NSUPD | F37: No Data | G37: No Data | H37: No Data
A38: 45322 | B38: 08:00 | C38: 45322 | D38: 0.99930556 | E38: No Criminal Incidents Reported to NSUPD | F38: No Data | G38: No Data | H38: No Data
A39: 45323 | B39: 08:00 | C39: 45323 | D39: 0.99930556 | E39: No Criminal Incidents Reported to NSUPD | F39: No Data | G39: No Data | H39: No Data
A40: 45324 | B40: 0.84444444 | C40: 45324 | D40: 0.84444444 | E40: Drug & Alcohol Violation | F40: 240202-0038 | G40: Lot 14A | H40: Closed
A41: 45324 | B41: 0.475 | C41: 45324 | D41: 0.47430556 | E41: Drug Violation | F41: 240202-0039 | G41: Babbette Smith North | H41: Closed
A42: 45324 | B42: 0.00069444444 | C42: 45324 | D42: 0.48958333 | E42: Drug & Alcohol Violation | F42: 240202-0040 | G42: Lot 7 | H42: Closed
A43: 45325 | B43: 08:00 | C43: 45325 | D43: 0.99930556 | E43: No Criminal Incidents Reported to NSUPD | F43: No Data | G43: No Data | H43: No Data
A44: 45326 | B44: 08:00 | C44: 45326 | D44: 0.99930556 | E44: No Criminal Incidents Reported to NSUPD | F44: No Data | G44: No Data | H44: No Data
A45: 45327 | B45: 0.055555556 | C45: 45327 | D45: 0.055555556 | E45: Drug & Weapon Violation | F45: 240205-0043 | G45: Lot 13 | H45: Closed
A46: 45328 | B46: 0.74791667 | C46: 45328 | D46: 0.52986111 | E46: Threatening Behavior | F46: 240207-0046 | G46: Police Hdqtr | H46: Closed
A47: 45329 | B47: 0.5875 | C47: 45329 | D47: 0.5875 | E47: Larceny/Theft | F47: 240207-0047 | G47: Samuel Scott Hall | H47: Closed
A48: 45329 | B48: 0.90555556 | C48: 45329 | D48: 0.88472222 | E48: Simple Assault (Dating Violence) | F48: 240207-0048 | G48: Midrise | H48: Active
A49: 45330 | B49: 0.77291667 | C49: 45330 | D49: 0.77083333 | E49: Weapon Violation | F49: 240208-0050 | G49: Babbette Smith North | H49: Closed
A50: 45330 | B50: 0.76111111 | C50: 45330 | D50: 0.75902778 | E50: Drug Violation (Marij) | F50: 240208-0049 | G50: Babbette Smith South | H50: Closed
A51: 45331 | B51: 08:00 | C51: 45331 | D51: 0.99930556 | E51: No Criminal Incidents Reported to NSUPD | F51: No Data | G51: No Data | H51: No Data
A52: 45332 | B52: 0.66527778 | C52: 45332 | D52: 0.6625 | E52: Damage to Property (State/Personal) | F52: 240210-0051 | G52: Park Place @ NSU | H52: Closed
A53: 45332 | B53: 0.99930556 | C53: 45332 | D53: 0.083333333 | E53: Theft from Motor Vehicle | F53: 240210-0052 | G53: Holiday Inn Express - Off Campus | H53: Closed
A54: 45333 | B54: 08:00 | C54: 45333 | D54: 0.99930556 | E54: No Criminal Incidents Reported to NSUPD | F54: No Data | G54: No Data | H54: No Data
A55: 45334 | B55: 08:00 | C55: 45334 | D55: 0.99930556 | E55: No Criminal Incidents Reported to NSUPD | F55: No Data | G55: No Data | H55: No Data
A56: 45335 | B56: 0.70833333 | C56: 45335 | D56: 0.70625 | E56: Drug Violation | F56: 240213-0054 | G56: Samuel Scott Hall | H56: Closed
A57: 45335 | B57: 0.75972222 | C57: 45335 | D57: 0.66666667 | E57: Simple Assault (Dating Violence) | F57: 240213-0055 | G57: New Residential Complex | H57: Closed
A58: 45336 | B58: 08:00 | C58: 45336 | D58: 0.99930556 | E58: No Criminal Incidents Reported to NSUPD | F58: No Data | G58: No Data | H58: No Data
A59: 45337 | B59: 01:30 | C59: 45337 | D59: 00:52 | E59: Simple Assault (Dating Violence) Info Only | F59: 240215-0059 | G59: 1055W. 48th Street - ODU | H59: Closed
A60: 45338 | B60: 0.75694444 | C60: 45338 | D60: 0.74236111 | E60: Drug Violation | F60: 240216-0061 | G60: Babbette Smith North | H60: Closed
A61: 45339 | B61: 0.64583333 | C61: 45339 | D61: 0.60972222 | E61: Drug Violation | F61: 240217-0062 | G61: Babbette Smith North | H61: Closed
A62: 45341 | B62: 00:44 | C62: 45340 | D62: 0.48958333 | E62: Simple Assault | F62: 240219-0063 | G62: Rosa Alexander | H62: Closed
A63: 45341 | B63: 0.70416667 | C63: 45341 | D63: 0.70416667 | E63: Drug Violation | F63: 240219-0065 | G63: Babbette Smith North | H63: Closed
A64: 45341 | B64: 0.98611111 | C64: 45341 | D64: 0.9375 | E64: Simple Assault | F64: 240219-0066 | G64: Babbette Smith North | H64: Closed
A65: 45342 | B65: 0.55763889 | C65: 45342 | D65: 0.39583333 | E65: Tampering with Vehicle | F65: 240220-0067 | G65: Lot 4 | H65: Closed
A66: 45342 | B66: 0.66736111 | C66: 45342 | D66: 0.66736111 | E66: Destruction of Property | F66: 240220-0068 | G66: Lot 7 | H66: Closed
A67: 45343 | B67: 0.64861111 | C67: 45341 | D67: 0.91666667 | E67: Damage to Property (State/Personal) | F67: 240221-0069 | G67: Spartan Suites | H67: Closed
A68: 45344 | B68: 08:00 | C68: 45344 | D68: 0.99930556 | E68: No Criminal Incidents Reported to NSUPD | F68: No Data | G68: No Data | H68: No Data
A69: 45345 | B69: 08:00 | C69: 45345 | D69: 0.99930556 | E69: No Criminal Incidents Reported to NSUPD | F69: No Data | G69: No Data | H69: No Data
A70: 45346 | B70: 0.97916667 | C70: 45346 | D70: 0.55138889 | E70: Vandalism | F70: 240224-0071 | G70: Lot 7 | H70: Active
A71: 45347 | B71: 08:00 | C71: 45347 | D71: 0.99930556 | E71: No Criminal Incidents Reported to NSUPD | F71: No Data | G71: No Data | H71: No Data
A72: 45348 | B72: 0.64166667 | C72: 45348 | D72: 08:00 | E72: Damage to Property (State/Personal) | F72: 240226-0073 | G72: Gills Gym | H72: Closed
A73: 45348 | B73: 0.47916667 | C73: 45348 | D73: 0.41666667 | E73: Larceny/Theft | F73: 240226-0074 | G73: Hamm Fine Arts Bldg. | H73: Closed
A74: 45348 | B74: 0.76875 | C74: 45348 | D74: 0.65694444 | E74: Tampering with Vehicle/Safety Equipment | F74: 240226-0075 | G74: Lot 26 | H74: Closed
A75: 45349 | B75: 0.61111111 | C75: 45349 | D75: 0.59375 | E75: Simple Assault (Dating Violence) | F75: 240227-0077 | G75: New Residential Complex | H75: Closed
A76: 45350 | B76: 08:00 | C76: 45350 | D76: 0.99930556 | E76: No Criminal Incidents Reported to NSUPD | F76: No Data | G76: No Data | H76: No Data
A77: 45351 | B77: 08:00 | C77: 45351 | D77: 0.99930556 | E77: No Criminal Incidents Reported to NSUPD | F77: No Data | G77: No Data | H77: No Data
A78: 45352 | B78: 0.91597222 | C78: 45352 | D78: 0.88541667 | E78: Robbery | F78: 240301-0081 | G78: 2600 Presidential Pkwy | H78: Active
A79: 45353 | B79: 08:00 | C79: 45353 | D79: 0.99930556 | E79: No Criminal Incidents Reported to NSUPD | F79: No Data | G79: No Data | H79: No Data
A80: 45354 | B80: 0.97222222 | C80: 45354 | D80: 0.96180556 | E80: Obstructing Justice | F80: 240304-0082 | G80: Spartan Station | H80: Arrested
A81: 45355 | B81: 08:00 | C81: 45355 | D81: 0.99930556 | E81: No Criminal Incidents Reported to NSUPD | F81: No Data | G81: No Data | H81: No Data
A82: 45356 | B82: 08:00 | C82: 45356 | D82: 0.99930556 | E82: No Criminal Incidents Reported to NSUPD | F82: No Data | G82: No Data | H82: No Data
A83: 45357 | B83: 03:37 | C83: 45357 | D83: 03:15 | E83: MVA State Property | F83: 240306-0084 | G83: Maude B Davis Dr. | H83: Closed
A84: 45357 | B84: 0.625 | C84: 45357 | D84: 0.56041667 | E84: Vandalism | F84: 240306-0085 | G84: Samuel Scott Hall | H84: Closed
A85: 45358 | B85: 08:00 | C85: 45358 | D85: 0.99930556 | E85: No Criminal Incidents Reported to NSUPD | F85: No Data | G85: No Data | H85: No Data
A86: 45359 | B86: 08:00 | C86: 45359 | D86: 0.99930556 | E86: No Criminal Incidents Reported to NSUPD | F86: No Data | G86: No Data | H86: No Data
A87: 45360 | B87: 08:00 | C87: 45360 | D87: 0.99930556 | E87: No Criminal Incidents Reported to NSUPD | F87: No Data | G87: No Data | H87: No Data
A88: 45361 | B88: 08:00 | C88: 45361 | D88: 0.99930556 | E88: No Criminal Incidents Reported to NSUPD | F88: No Data | G88: No Data | H88: No Data
A89: 45362 | B89: 08:00 | C89: 45362 | D89: 0.99930556 | E89: No Criminal Incidents Reported to NSUPD | F89: No Data | G89: No Data | H89: No Data
A90: 45363 | B90: 08:00 | C90: 45363 | D90: 0.99930556 | E90: No Criminal Incidents Reported to NSUPD | F90: No Data | G90: No Data | H90: No Data
A91: 45364 | B91: 08:00 | C91: 45364 | D91: 0.99930556 | E91: No Criminal Incidents Reported to NSUPD | F91: No Data | G91: No Data | H91: No Data
A92: 45365 | B92: 08:00 | C92: 45365 | D92: 0.99930556 | E92: No Criminal Incidents Reported to NSUPD | F92: No Data | G92: No Data | H92: No Data
A93: 45366 | B93: 08:00 | C93: 45366 | D93: 0.99930556 | E93: No Criminal Incidents Reported to NSUPD | F93: No Data | G93: No Data | H93: No Data
A94: 45367 | B94: 08:00 | C94: 45367 | D94: 0.99930556 | E94: No Criminal Incidents Reported to NSUPD | F94: No Data | G94: No Data | H94: No Data
A95: 45368 | B95: 08:00 | C95: 45368 | D95: 0.99930556 | E95: No Criminal Incidents Reported to NSUPD | F95: No Data | G95: No Data | H95: No Data
A96: 45369 | B96: 22:46 | C96: 45369 | D96: 0.90625 | E96: Weapon Violation (Knife) | F96: 240318-0093 | G96: Spartan Park | H96: Closed
... A98: 45372 | B98: 01:10 | C98: 45372 | D98: 0.044444444 | E98: Drug Violation | F98: 240321-0094 | G98: Babbette Smith South | H98: Closed
A99: 45372 | B99: 0.92361111 | C99: 45371 | D99: 0.92013889 | E99: Drug Violation | F99: 240321-0095 | G99: Babbette Smith South | H99: Closed
A100: 45372 | B100: 0.52083333 | C100: 45372 | D100: 0.45555556 | E100: Drug Violation | F100: 240321-0096 | G100: Babbette Smith South | H100: Closed
A101: 45372 | B101: 0.79166667 | C101: 45372 | D101: 0.76527778 | E101: Drug Violation | F101: 240321-0097 | G101: New Residential Complex | H101: Closed
...

Sheet 2025 Daily Crime Log
A1: Report Date | B1: Report Time | C1: Offense Date | D1: Offense Time | E1: Offense Title | F1: Case # | G1: Location | H1: Disposition
A2: 45658 | B2: 08:00 | C2: 45658 | D2: 0.99930556 | E2: No Criminal Incidents Reported to NSUPD | F2: No Data | G2: No Data | H2: No Data
A3: 45659 | B3: 08:00 | C3: 45659 | D3: 0.99930556 | E3: No Criminal Incidents Reported to NSUPD | F3: No Data | G3: No Data | H3: No Data
A4: 45660 | B4: 0.45833333 | C4: 45660 | D4: 0.65625 | E4: Fire With Structure Damage | F4: 250103-0002 | G4: New Residential Complex | H4: Closed
A5: 45661 | B5: 08:00 | C5: 45661 | D5: 0.99930556 | E5: No Criminal Incidents Reported to NSUPD | F5: No Data | G5: No Data | H5: No Data
A6: 45662 | B6: 08:00 | C6: 45662 | D6: 0.99930556 | E6: No Criminal Incidents Reported to NSUPD | F6: No Data | G6: No Data | H6: No Data
A7: 45663 | B7: 08:00 | C7: 45663 | D7: 0.99930556 | E7: No Criminal Incidents Reported to NSUPD | F7: No Data | G7: No Data | H7: No Data
A8: 45664 | B8: 08:00 | C8: 45664 | D8: 0.99930556 | E8: No Criminal Incidents Reported to NSUPD | F8: No Data | G8: No Data | H8: No Data
A9: 45665 | B9: 08:00 | C9: 45665 | D9: 0.99930556 | E9: No Criminal Incidents Reported to NSUPD | F9: No Data | G9: No Data | H9: No Data
A10: 45666 | B10: 08:00 | C10: 45666 | D10: 0.99930556 | E10: No Criminal Incidents Reported to NSUPD | F10: No Data | G10: No Data | H10: No Data
A11: 45667 | B11: 12:29 | C11: 45667 | D11: 0.52013889 | E11: Small fire no damage | F11: No Data | G11: Near Wilson Hall | H11: Extinguished by PO
A12: 45667 | B12: 15:44 | C12: 45667 | D12: 0.65555556 | E12: Multiple Agency Police Pursuit | F12: No Data | G12: Park Ave & E. Brambleton Ave | H12: Arrested by NPD
A13: 45667 | B13: 0.77152778 | C13: 45581 | D13: 0.79166667 | E13: False Pretense/Swindle/Confidence Game | F13: 250110-0003 | G13: 2300 Maude B. Davis | H13: Active
A14: 45668 | B14: 0.19722222 | C14: 45668 | D14: 0.029166667 | E14: Driving Under Influence (DUI) (DWI) | F14: 250111-0004 | G14: 1000 Park Ave | H14: Arrested
A15: 45669 | B15: 0.60416667 | C15: 45669 | D15: 0.51388889 | E15: False Identification to LEO | F15: 250112-0005 | G15: 1510 Brambleton Ave (7-11) | H15: Arrested
A16: 45670 | B16: 08:00 | C16: 45670 | D16: 0.99930556 | E16: No Criminal Incidents Reported to NSUPD | F16: No Data | G16: No Data | H16: No Data
A17: 45671 | B17: 08:00 | C17: 45671 | D17: 0.99930556 | E17: No Criminal Incidents Reported to NSUPD | F17: No Data | G17: No Data | H17: No Data
A18: 45672 | B18: 08:00 | C18: 45672 | D18: 0.99930556 | E18: No Criminal Incidents Reported to NSUPD | F18: No Data | G18: No Data | H18: No Data
A19: 45673 | B19: 08:00 | C19: 45673 | D19: 0.99930556 | E19: No Criminal Incidents Reported to NSUPD | F19: No Data | G19: No Data | H19: No Data
A20: 45674 | B20: 0.83333333 | C20: 45674 | D20: 0.94930556 | E20: Warrants Outstanding For Other Agency | F20: 250117-0007 | G20: 1501 E. Brambleton Ave. (7-11) | H20: Arrested
A21: 45675 | B21: 0.75347222 | C21: 45675 | D21: 0.72430556 | E21: MVA Hit/Run With Injuries | F21: 250118-0008 | G21: 2251 Presidential Pkwy. (Lot 3) | H21: Closed
A22: 45676 | B22: 08:00 | C22: 45676 | D22: 0.99930556 | E22: No Criminal Incidents Reported to NSUPD | F22: No Data | G22: No Data | H22: No Data
A23: 45677 | B23: 0.5625 | C23: 45677 | D23: 0.56111111 | E23: Robbery | F23: 250120-0010 | G23: 850 Gym Rd. | H23: Active
A24: 45677 | B24: 0.055555556 | C24: 45677 | D24: 0.86319444 | E24: Warrants Outstanding For Other Agency | F24: 250120-0011 | G24: 1000 Park Ave | H24: Arrested
A25: 45678 | B25: 0.79166667 | C25: 45678 | D25: 0.875 | E25: Damage Of Property | F25: 250122-0012 | G25: 2400 Gym Rd. | H25: Closed
A26: 45679 | B26: 11:42 | C26: 45678 | D26: 0.4375 | E26: Petit Larceny | F26: 250128-0020 | G26: 2771 Middle Towne Cres (Spartan Station) | H26: Unfounded
A27: 45680 | B27: 0.083333333 | C27: 45680 | D27: 0.041666667 | E27: Fire Structure With Damage | F27: 250123-0013 | G27: 2701 Middle Towne Cres. (Charles Smith) | H27: Closed
A28: 45680 | B28: 0.75 | C28: 45680 | D28: 0.725 | E28: Larceny/Theft | F28: 250123-0015 | G28: 2491 Corprew Ave. (Scott Dozier Dining Hall) | H28: Closed
A29: 45681 | B29: 08:00 | C29: 45681 | D29: 0.99930556 | E29: No Criminal Incidents Reported to NSUPD | F29: No Data | G29: No Data | H29: No Data
A30: 45682 | B30: 0.17152778 | C30: 45682 | D30: 0.0048611111 | E30: Driving Under Influence (DUI) (DWI) | F30: 250125-0016 | G30: 3025 E. Virginia Beach Blvd. | H30: Arrested
A31: 45682 | B31: 0.070833333 | C31: 45682 | D31: 0.85138889 | E31: Warrants Outstanding For Other Agency | F31: 250125-0017 | G31: 1100 Park Ave | H31: Arrested
A32: 45683 | B32: 0.10138889 | C32: 45683 | D32: 0.072916667 | E32: Alcohol Violation | F32: 250126-0018 | G32: 2201 Maude B. Davis Dr. (Rosa Alexander) | H32: Closed
A33: 45684 | B33: 08:00 | C33: 45684 | D33: 0.99930556 | E33: No Criminal Incidents Reported to NSUPD | F33: No Data | G33: No Data | H33: No Data
A34: 45685 | B34: 10:24 | C34: 45685 | D34: 0.43194444 | E34: Larceny/Theft | F34: 240201-0024 | G34: 2771 Middle Towne Cres (Spartan Station) | H34: Closed
A35: 45686 | B35: 08:00 | C35: 45686 | D35: 0.99930556 | E35: No Criminal Incidents Reported to NSUPD | F35: No Data | G35: No Data | H35: No Data
A36: 45687 | B36: 08:00 | C36: 45687 | D36: 0.99930556 | E36: No Criminal Incidents Reported to NSUPD | F36: No Data | G36: No Data | H36: No Data
A37: 45688 | B37: 08:00 | C37: 45688 | D37: 0.99930556 | E37: No Criminal Incidents Reported to NSUPD | F37: No Data | G37: No Data | H37: No Data
A38: 45689 | B38: 08:00 | C38: 45689 | D38: 0.99930556 | E38: No Criminal Incidents Reported to NSUPD | F38: No Data | G38: No Data | H38: No Data
A39: 45690 | B39: 08:00 | C39: 45690 | D39: 0.99930556 | E39: No Criminal Incidents Reported to NSUPD | F39: No Data | G39: No Data | H39: No Data
A40: 45691 | B40: 10:32 | C40: 45585 | D40: 0.91666667 | E40: Fondling | F40: 250203-0025 | G40: 5115 Hampton Blvd | H40: Closed
A41: 45691 | B41: 0.57638889 | C41: 45691 | D41: 0.57013889 | E41: Aggravated Assault | F41: 250203-0026 | G41: 901 Marshall Ave | H41: Active
A42: 45692 | B42: 0.33055556 | C42: 45691 | D42: 0.91666667 | E42: Vandalism | F42: 250204-0027 | G42: 900 Park Ave (Lot 22) | H42: Closed
A43: 45692 | B43: 0.60347222 | C43: 45692 | D43: 0.60347222 | E43: Warrants Outstanding For Other Agency | F43: 250204-0028 | G43: 1510 E. Brambleton Ave | H43: Arrested
A44: 45692 | B44: 0.65972222 | C44: 45692 | D44: 0.58333333 | E44: Physical Altercation (Dating Violence) | F44: 250204-0029 | G44: 2201 Maude B. Davis Dr. (Rosa Alexander) | H44: Closed
A45: 45693 | B45: 0.54791667 | C45: 45693 | D45: 0.54166667 | E45: Simple Assault | F45: 250205-0030 | G45: 851 Gym Rd. | H45: Closed
A46: 45694 | B46: 08:00 | C46: 45694 | D46: 0.99930556 | E46: No Criminal Incidents Reported to NSUPD | F46: No Data | G46: No Data | H46: No Data
A47: 45695 | B47: 0.65486111 | C47: 45695 | D47: 0.54861111 | E47: Threatening Behavior | F47: 250207-0033 | G47: 2600 Presidential Pkwy (Echols Hall) | H47: Closed
A48: 45696 | B48: 08:00 | C48: 45696 | D48: 0.99930556 | E48: No Criminal Incidents Reported to NSUPD | F48: No Data | G48: No Data | H48: No Data
A49: 45697 | B49: 08:00 | C49: 45697 | D49: 0.99930556 | E49: No Criminal Incidents Reported to NSUPD | F49: No Data | G49: No Data | H49: No Data
A50: 45698 | B50: 0.56666667 | C50: 45698 | D50: 0.5625 | E50: Simple Assault (Dating Violence) | F50: 250210-0034 | G50: 2781 Middle Towne Cres. (Lee Smith) | H50: Closed
A51: 45698 | B51: 0.5 | C51: 45695 | D51: 0.79166667 | E51: Weapon Violation | F51: 250211-0035 | G51: 215 Saint Paul Blvd. (Chrysler Hall) | H51: Closed
A52: 45699 | B52: 0.5375 | C52: 45699 | D52: 0.5375 | E52: Hit & Run | F52: 250212-0036 | G52: Lot 16 | H52: Closed
A53: 45700 | B53: 0.75833333 | C53: 45700 | D53: 0.7125 | E53: Weapon Violation | F53: 250212-0037 | G53: 2601 Corprew Ave. (Lot 13) | H53: Arrested
A54: 45701 | B54: 08:00 | C54: 45701 | D54: 0.99930556 | E54: No Criminal Incidents Reported to NSUPD | F54: No Data | G54: No Data | H54: No Data
A55: 45702 | B55: 08:00 | C55: 45702 | D55: 0.99930556 | E55: No Criminal Incidents Reported to NSUPD | F55: No Data | G55: No Data | H55: No Data
A56: 45703 | B56: 08:00 | C56: 45703 | D56: 0.99930556 | E56: No Criminal Incidents Reported to NSUPD | F56: No Data | G56: No Data | H56: No Data
A57: 45704 | B57: 0.80763889 | C57: 45704 | D57: 0.72916667 | E57: Physical Altercation | F57: 250216-0044 | G57: Box 21 Spartan Suites North Parking Lot | H57: Active
A58: 45705 | B58: 08:00 | C58: 45705 | D58: 0.99930556 | E58: No Criminal Incidents Reported to NSUPD | F58: No Data | G58: No Data | H58: No Data
A59: 45706 | B59: 0.31041667 | C59: 45706 | D59: 0.31041667 | E59: Warrants Outstanding For Other Agency | F59: 250218-0045 | G59: 1600 Brambleton Ave. | H59: Arrested
A60: 45707 | B60: 0.125 | C60: 45707 | D60: 0.027777778 | E60: Physical Altercation | F60: 250219-0046 | G60: Babbette Smith South - 900 Park Ave | H60: Closed
A61: 45708 | B61: 08:00 | C61: 45708 | D61: 0.99930556 | E61: No Criminal Incidents Reported to NSUPD | F61: No Data | G61: No Data | H61: No Data
A62: 45709 | B62: 08:00 | C62: 45709 | D62: 0.99930556 | E62: No Criminal Incidents Reported to NSUPD | F62: No Data | G62: No Data | H62: No Data
A63: 45710 | B63: 0.53333333 | C63: 45710 | D63: 0.53333333 | E63: Abduction/Kidnapping | F63: 250222-0049 | G63: Spartan Suites - 2601 Corprew Ave | H63: Closed
A64: 45711 | B64: 0.0027777778 | C64: 45710 | D64: 0.78958333 | E64: Driving Under Influence (DUI) (DWI) | F64: 250222-0050 | G64: 900 Blk. Bond St. | H64: Arrested
A65: 45712 | B65: 0.098611111 | C65: 45712 | D65: 0.93055556 | E65: Driving Under Influence (DUI) (DWI) | F65: 250225-0052 | G65: 700 Onley Rd | H65: Arrested
A66: 45713 | B66: 0.59583333 | C66: 45713 | D66: 0.5 | E66: Assault & Battery (Simple) | F66: 250225-0053 | G66: 2251 Presidential Pkwy. (Lot 3) | H66: Closed
A67: 45713 | B67: 0.59652778 | C67: 45712 | D67: 0.94305556 | E67: Assault & Battery (Simple) | F67: 250225-0054 | G67: Babbette Smith South - 900 Park Ave | H67: Closed
A68: 45713 | B68: 0.98611111 | C68: 45713 | D68: 0.91319444 | E68: Warrants Outsanding For Other Agency | F68: 250225-0055 | G68: 1501 Brambleton Ave | H68: Arrested
A69: 45714 | B69: 0.61527778 | C69: 45714 | D69: 0.41388889 | E69: Disorderly Conduct | F69: 250226-0056 | G69: 700 Park Ave | H69: Arrested
A70: 45715 | B70: 0.42013889 | C70: 45715 | D70: 0.42013889 | E70: Vandalism | F70: 250227-0057 | G70: 2251 Presidential Pkwy. | H70: Active
A71: 45715 | B71: 0.80138889 | C71: 45715 | D71: 0.63402778 | E71: MVA Hit/Run With Injuries | F71: 250227-0058 | G71: 900 Park Ave | H71: Closed
A72: 45716 | B72: 08:00 | C72: 45716 | D72: 0.99930556 | E72: No Criminal Incidents Reported to NSUPD | F72: No Data | G72: No Data | H72: No Data
A73: 45717 | B73: 0.32777778 | C73: 45717 | D73: 0.32708333 | E73: Destruction/Damage/Vandalism of Property | F73: 250301-0059 | G73: 2100 Presidential Pkwy | H73: Closed
A74: 45718 | B74: 08:00 | C74: 45718 | D74: 0.99930556 | E74: No Criminal Incidents Reported to NSUPD | F74: No Data | G74: No Data | H74: No Data
A75: 45719 | B75: 0.82638889 | C75: 45719 | D75: 0.82291667 | E75: Destruction/Damage/Vandalism of Property | F75: 250301-0061 | G75: 2600 Presidential Pkwy (Gate 8) | H75: Closed
A76: 45720 | B76: 08:00 | C76: 45720 | D76: 0.99930556 | E76: No Criminal Incidents Reported to NSUPD | F76: No Data | G76: No Data | H76: No Data
A77: 45720 | B77: 0.60416667 | C77: 45714 | D77: 0.375 | E77: Larceny/Theft | F77: 250304-0063 | G77: 700 Park Ave. (Wilson Hall) | H77: Active
A78: 45720 | B78: 0.98194444 | C78: 45569 | D78: 0.79166667 | E78: Abduction/Kidnapping | F78: 250304-0064 | G78: 2601 Corprew Ave. | H78: Closed
A79: 45721 | B79: 0.020833333 | C79: 45721 | D79: 0.85416667 | E79: Damage Of Property | F79: 230305-0067 | G79: 2100 Presidential Pkwy | H79: Closed
A80: 45722 | B80: 0.14791667 | C80: 45722 | D80: 0.0034722222 | E80: Hit & Run | F80: 250306-0068 | G80: 2400 Corprew Ave. | H80: Arrested
A81: 45722 | B81: 0.91666667 | C81: 45722 | D81: 0.33333333 | E81: Threatening Behavior | F81: 250306-0069 | G81: 2539 Corprew Ave. | H81: Arrested
A82: 45723 | B82: 0.29375 | C82: 45723 | D82: 0.61111111 | E82: Threatening Behavior | F82: 250307-0070 | G82: 900 Park Ave. | H82: Arrested
A83: 45724 | B83: 0.37986111 | C83: 45723 | D83: 0.39236111 | E83: Larceny/Theft | F83: 250308-0071 | G83: 900 Park Ave. (Lot 22) | H83: Closed
A84: 45725 | B84: 08:00 | C84: 45725 | D84: 0.99930556 | E84: No Criminal Incidents Reported to NSUPD | F84: No Data | G84: No Data | H84: No Data
A85: 45726 | B85: 08:00 | C85: 45726 | D85: 0.99930556 | E85: No Criminal Incidents Reported to NSUPD | F85: No Data | G85: No Data | H85: No Data
A86: 45727 | B86: 0.18125 | C86: 45727 | D86: 0.97916667 | E86: Larceny/Theft | F86: 250312-0073 | G86: 900 Park Ave | H86: Active
A87: 45727 | B87: 0.80416667 | C87: 45727 | D87: 0.66666667 | E87: Assault - Simple | F87: 25-ODU-00242 | G87: 1037 West 39 St. Apt. (1st. Flr Lobby) | H87: Closed
A88: 45728 | B88: 08:00 | C88: 45728 | D88: 0.99930556 | E88: No Criminal Incidents Reported to NSUPD | F88: No Data | G88: No Data | H88: No Data
A89: 45729 | B89: 0.14375 | C89: 45728 | D89: 0.20138889 | E89: Hit & Run | F89: 250313-0074 | G89: 900 Park Ave (Babbette Smith South) | H89: Closed
A90: 45730 | B90: 08:00 | C90: 45730 | D90: 0.99930556 | E90: No Criminal Incidents Reported to NSUPD | F90: No Data | G90: No Data | H90: No Data
A91: 45731 | B91: 08:00 | C91: 45731 | D91: 0.99930556 | E91: No Criminal Incidents Reported to NSUPD | F91: No Data | G91: No Data | H91: No Data
A92: 45732 | B92: 0.6375 | C92: 45732 | D92: 0.53125 | E92: Damage To Property (State/Personal) | F92: 250316-0076 | G92: 2371 Presidential Pkwy | H92: Closed
A93: 45733 | B93: 0.47638889 | C93: 45730 | D93: 0.29166667 | E93: Destruction/Damage/Vandalism of Property | F93: 250317-0077 | G93: Robinson Tech - 950 Park Ave. | H93: Closed
A94: 45734 | B94: 0.68472222 | C94: 45734 | D94: 0.56944444 | E94: Trespass Notice | F94: 250318-0079 | G94: 2401 Corprew Ave | H94: Active
A95: 45735 | B95: 08:00 | C95: 45735 | D95: 0.99930556 | E95: No Criminal Incidents Reported to NSUPD | F95: No Data | G95: No Data | H95: No Data
A96: 45736 | B96: 08:00 | C96: 45736 | D96: 0.99930556 | E96: No Criminal Incidents Reported to NSUPD | F96: No Data | G96: No Data | H96: No Data
A97: 45737 | B97: 0.85069444 | C97: 45737 | D97: 0.85069444 | E97: Warrants Outstanding For Other Agency | F97: 250321-0079 | G97: Lot 22 | H97: Arrested
A98: 45737 | B98: 0.51180556 | C98: 45728 | D98: 0.51180556 | E98: Larceny/Theft | F98: 250322-0081 | G98: 222 Park Ave (McDemmond Ctr) | H98: Closed
A99: 45738 | B99: 08:00 | C99: 45738 | D99: 0.99930556 | E99: No Criminal Incidents Reported to NSUPD | F99: No Data | G99: No Data | H99: No Data
A100: 45739 | B100: 08:00 | C100: 45739 | D100: 0.99930556 | E100: No Criminal Incidents Reported to NSUPD | F100: No Data | G100: No Data | H100: No Data
...

Sheet 2026 Daily Crime Log 
A1: Report Date | B1: Report Time | C1: Offense Date | D1: Offense Time | E1: Offense Title | F1: Case # | G1: Location | H1: Disposition
A2: 46023 | B2: 0.21875 | C2: 46023 | D2: 0.12083333 | E2: Trespass | F2: 260101-0001 | G2: 700 Park Ave. | H2: Closed Arrest
A3: 46024 | B3: 0.33333333 | C3: 46024 | D3: 0.99930556 | E3: No Criminal Incidents Reported to NSUPD | F3: No Data | G3: No Data | H3: No Data
A4: 46025 | B4: 0.33333333 | C4: 46025 | D4: 0.99930556 | E4: No Criminal Incidents Reported to NSUPD | F4: No Data | G4: No Data | H4: No Data
A5: 46026 | B5: 0.33333333 | C5: 46026 | D5: 0.99930556 | E5: No Criminal Incidents Reported to NSUPD | F5: No Data | G5: No Data | H5: No Data
A6: 46027 | B6: 0.33333333 | C6: 46027 | D6: 0.99930556 | E6: No Criminal Incidents Reported to NSUPD | F6: No Data | G6: No Data | H6: No Data
A7: 46028 | B7: 0.33333333 | C7: 46028 | D7: 0.99930556 | E7: No Criminal Incidents Reported to NSUPD | F7: No Data | G7: No Data | H7: No Data
A8: 46029 | B8: 0.33333333 | C8: 46029 | D8: 0.99930556 | E8: No Criminal Incidents Reported to NSUPD | F8: No Data | G8: No Data | H8: No Data
A9: 46030 | B9: 0 | C9: 46029 | D9: 0.89166667 | E9: Eluding Police | F9: 260108-0002 | G9: 800 Park Ave. | H9: Inactive
A10: 46031 | B10: 0.96944444 | C10: 46031 | D10: 0.94930556 | E10: Drug Violation | F10: 260109-0003 | G10: 2701 Middle Towne Cres. | H10: Closed Exception
A11: 46032 | B11: 0.53472222 | C11: 46032 | D11: 0.53055556 | E11: Drug Violation | F11: 260109-0004 | G11: 2500 Blk of Corprew Ave. | H11: Closed Exception
A12: 46032 | B12: 0.8375 | C12: 46032 | D12: 0.78611111 | E12: Damage to Property | F12: 260110-0005 | G12: 2501 Corprew Ave. | H12: Closed
A13: 46033 | B13: 0.775 | C13: 46033 | D13: 0.12638889 | E13: Alcohol Violation | F13: 260111-0006 | G13: 900 Park Ave. | H13: Closed Exception
... A331: 38933 | B331: 0.64583333 | C331: 46238 | D331: 0.48263889 | E331: Larceny/Theft | F331: 260804-0284 | G331: 2439 Corprew Ave (Lot 14A) | H331: Active
A332: 46239 | B332: 0.91666667 | C332: 46239 | D332: 0.85208333 | E332: Trespass | F332: 260805 | G332: 840 Gym Rd. | H332: Closed
A333: 46240 | B333: 0.75 | C333: 46240 | D333: 0.55416667 | E333: Warrants Outstanding for Other Agency | F333: 260806-0286 | G333: 2501 Corprew Ave. | H333: Closed/Arrest
A334: 46606 | B334: 0.33333333 | C334: 46241 | D334: 0.99930556 | E334: No Criminal Incidents Reported to NSUPD | F334: No Data | G334: No Data | H334: No Data
A335: 46242 | B335: 0.65625 | C335: 46242 | D335: 0.61458333 | E335: Underage Marijuana Possession | F335: 260808-0289 | G335: 2539 Corprew Ave. | H335: Closed Exception
A336: 46608 | B336: 0.33333333 | C336: 46243 | D336: 0.99930556 | E336: No Criminal Incidents Reported to NSUPD | F336: No Data | G336: No Data | H336: No Data
A337: 46244 | B337: 0.51527778 | C337: 46244 | D337: 0.52083333 | E337: Underage Marijuana Possession | F337: 260810-0291 | G337: 2593 Corprew Ave. | H337: Closed Exception
A338: 46245 | B338: 0.89583333 | C338: 46245 | D338: 0.75138889 | E338: Warrants Outstanding for Other Agency | F338: 260811-0292 | G338: Gate 1 | H338: Closed Arrest
A339: 46611 | B339: 0.33333333 | C339: 46246 | D339: 0.99930556 | E339: No Criminal Incidents Reported to NSUPD | F339: No Data | G339: No Data | H339: No Data
A340: 46613 | B340: 0.036111111 | C340: 46247 | D340: 0.94583333 | E340: Warrants Outstanding for Other Agency | F340: 260813-0293 | G340: 2500 Presidential Pkwy | H340: Closed Arrest
A341: 46248 | B341: 0.84305556 | C341: 46248 | D341: 0.79166667 | E341: Assault & Battery (Simple) | F341: 260814-0294 | G341: 1 Corprew Ave. (New Res.) | H341: Closed Exception
A342: 46614 | B342: 0.33333333 | C342: 46249 | D342: 0.99930556 | E342: No Criminal Incidents Reported to NSUPD | F342: No Data | G342: No Data | H342: No Data
A343: 46250 | B343: 0.63333333 | C343: 46250 | D343: 0.61875 | E343: Assault & Battery (Simple) | F343: 260816-0295 | G343: 805 Park Ave. (Park Place Apt.) | H343: Active
A344: 46251 | B344: 0.28958333 | C344: 46250 | D344: 0 | E344: Assault & Battery (Simple) | F344: 260817-0297 | G344: 900 Paark Ave. (Lot 23) | H344: Closed Exception
... A433: 46302 | B433: 0.85902778 | C433: 46302 | D433: 0.8125 | E433: Damage to Property (State/Personal) | F433: 261007-0388 | G433: 900 Park Ave. | H433: Closed
